Workbook
Name Könyvtár: '[1]Erősáram 1-es épület'!#REF!

Sheet Záradék
A9: Név : Kincsem Park
A11: Cím : 1011-Budapest, Albertírsai út 2-4 | C11: Kelt: 2016. év január hó . nap
C12: Szám :.............
C13: KSH besorolás:.....................
C14: Teljesítés:20.. év...........hó...nap
A15: A munka leírása: | C15: Készítette :
A16: KINCSEM PARK,
A17: SZÁLLÁSÉPÜLET felújítása
A19: Készült:
A22: Költségvetés főösszesítő
A23: Megnevezés | C23: Anyagköltség | D23: Díjköltség
A24: 1. Építmény közvetlen költségei | C24: =SUM(Összesítő!B17) -> 0 | D24: =SUM(Összesítő!C17) -> 0
A25: 1.1 Közvetlen önköltség összesen | C25: =SUM(C24) -> 0 | D25: =SUM(D24) -> 0
A26: 2.1 ÁFA vetítési alap | C26: =SUM(C25:D25) -> 0
A27: 2.2 Áfa | C27: =SUM(C26*0.27) -> 0
A28: 3. A munka ára | C28: =SUM(C27+C26) -> 0
B34: Aláírás

Sheet Összesítő
A1: Munkanem megnevezése | B1: Anyag összege | C1: Díj összege
A2: Zsaluzás és állványozás | B2: ='Zsaluzás és állványozás'!H7 -> 0 | C2: ='Zsaluzás és állványozás'!I7 -> 0
A3: Irtás, föld- és sziklamunka | B3: ='Irtás, föld- és sziklamunka'!H5 -> 0 | C3: ='Irtás, föld- és sziklamunka'!I5 -> 0
A4: Helyszíni beton és vasbeton munka | B4: ='Helyszíni beton és vasbeton mun'!H9 -> 0 | C4: ='Helyszíni beton és vasbeton mun'!I9 -> 0
A5: Ácsmunka | B5: =Ácsmunka!H15 -> 0 | C5: =Ácsmunka!I15 -> 0
A6: Vakolás és rabicolás | B6: ='Vakolás és rabicolás'!H11 -> 0 | C6: ='Vakolás és rabicolás'!I11 -> 0
A7: Égéstermék elvezető berendezések | B7: ='Égéstermék elvezető berendezése'!H4 -> 0 | C7: ='Égéstermék elvezető berendezése'!I4 -> 0
A8: Tetőfedés | B8: =Tetőfedés!H6 -> 0 | C8: =Tetőfedés!I6 -> 0
A9: Burkolás | B9: =Burkolás!H15 -> 0 | C9: =Burkolás!I15 -> 0
A10: Bádogozás | B10: =Bádogozás!H20 -> 0 | C10: =Bádogozás!I20 -> 0
A11: Asztalosszerkezetek elhelyezése | B11: ='Asztalosszerkezetek elhelyezése'!H24 -> 0 | C11: ='Asztalosszerkezetek elhelyezése'!I24 -> 0
A12: Lakatos szerkezetek | B12: =SUM('Lakatos szerkezetek'!H6) -> 0 | C12: =SUM('Lakatos szerkezetek'!I6) -> 0
A13: Felületképzés (festés, mázolás, tapétázás, korrózióvédelem) | B13: ='Felületképzés (festés, mázolás,'!H7 -> 0 | C13: ='Felületképzés (festés, mázolás,'!I7 -> 0
A14: Szigetelés | B14: =Szigetelés!H5 -> 0 | C14: =Szigetelés!I5 -> 0
A15: Elektromos energia ellátás, világítás | B15: ='Elektromos energia ellátás, vil'!H4 -> 0 | C15: ='Elektromos energia ellátás, vil'!I4 -> 0
A16: Általános épületgépészeti szerelés | B16: ='Általános épületgépészeti szere'!H4 -> 0 | C16: ='Általános épületgépészeti szere'!I4 -> 0
A17: Összesen: | B17: =ROUND(SUM(B2:B16), 0) -> 0 | C17: =ROUND(SUM(C2:C16), 0) -> 0

Sheet Zsaluzás és állványozás
A1: Ssz. | B1: Tételszám | C1: Tétel szövege | D1: Menny. | E1: Egység | F1: Anyag egységár | G1: Díj egységre | H1: Anyag összesen | I1: Díj összesen
A2: 1 | B2: 15-012-006.1 | C2: Homlokzati csőállvány állítása állványcsőből mint munkaállvány, szintenkénti pallóterítéssel, korláttal, lábdeszkával, kétlábas, 0,60-0,90 m padlószélességgel, munkapadló távolság 2,00 m, 2,00 kN/m2 terhelhetőséggel, állványépítés MSZ és | D2: 360 | E2: m2 | F2: 0 | G2: 0 | H2: =D2*F2 -> 0 | I2: =D2*G2 -> 0
C3: alkalmazástechnikai kézikönyv szerint, 6,00 m munkapadló magasságig
A5: 2 | B5: 15-012-025.1 | C5: Védőfüggöny szerelése állványszerkezetre, műanyag hálóból | D5: 360 | E5: m2 | F5: 0 | G5: 0 | H5: =D5*F5 -> 0 | I5: =D5*G5 -> 0
C7: Munkanem összesen: | H7: =SUM(H2:H6) -> 0 | I7: =SUM(I2:I6) -> 0

Sheet Irtás, föld- és sziklamunka
A1: Ssz. | B1: Tételszám | C1: Tétel szövege | D1: Menny. | E1: Egység | F1: Anyag egységár | G1: Díj egységre | H1: Anyag összesen | I1: Díj összesen
A3: 1 | B3: 21-011-011.5 | C3: Építési törmelék konténeres elszállítása, lerakása, lerakóhelyi díjjal, 7,0 m3-es konténerbe | D3: 15 | E3: db | G3: 0 | H3: =D3*F3 -> 0 | I3: =+D3*G3 -> 0
C5: Munkanem összesen: | H5: =SUM(H2:H3) -> 0 | I5: =SUM(I2:I3) -> 0

Sheet Helyszíni beton és vasbeton mun
J1: Jászai | N1: Fémszerkezet | R1: Tomku | V1: Hunturul
A2: Ssz. | B2: Tételszám | C2: Tétel szövege | D2: Menny. | E2: Egység | F2: Anyag egységár | G2: Díj egységre | H2: Anyag összesen | I2: Díj összesen | J2: Anyag egységár | K2: Díj egységre | L2: Anyag összesen | M2: Díj összesen | N2: Anyag egységár | O2: Díj egységre | P2: Anyag összesen | Q2: Díj összesen | R2: Anyag egységár | S2: Díj egységre | T2: Anyag összesen | U2: Díj összesen | V2: Anyag egységár | W2: Díj egységre | X2: Anyag összesen | Y2: Díj összesen
A3: 1 | B3: 31-000-13.2 | C3: Beton aljzatok, járdák bontása 10 cm vastagságig, kavicsbetonból, salakbetonból | D3: 315 | E3: m2 | G3: 0 | H3: =ROUND(D3*F3,0) -> 0 | I3: =ROUND(D3*G3,0) -> 0 | L3: =ROUND($D3*J3,0) -> 0 | M3: =ROUND($D3*K3,0) -> 0 | P3: =ROUND($D3*N3,0) -> 0 | Q3: =ROUND($D3*O3,0) -> 0 | T3: =ROUND($D3*R3,0) -> 0 | U3: =ROUND($D3*S3,0) -> 0 | X3: =ROUND($D3*V3,0) -> 0 | Y3: =ROUND($D3*W3,0) -> 0
A5: 2 | B5: 31-001-2-0452004 | C5: Hegesztett betonacél háló szerelése tartószerkezetbe FERALPI 8K1515 építési síkháló; 5,00 x 2,15 m; 150 x 150 mm osztással Ø 8,00 / 8,00 BHB55.50 | D5: 2.7 | E5: t | F5: 0 | G5: 0 | H5: =ROUND(D5*F5,0) -> 0 | I5: =ROUND(D5*G5,0) -> 0 | L5: =ROUND($D5*J5,0) -> 0 | M5: =ROUND($D5*K5,0) -> 0 | P5: =ROUND($D5*N5,0) -> 0 | Q5: =ROUND($D5*O5,0) -> 0 | T5: =ROUND($D5*R5,0) -> 0 | U5: =ROUND($D5*S5,0) -> 0 | X5: =ROUND($D5*V5,0) -> 0 | Y5: =ROUND($D5*W5,0) -> 0
A7: 3 | B7: 31-030-11.2.1.1-0012110 | C7: Beton aljzat készítése mixer betonból, kisgépes, betonszivattyú továbbítással és kézi bedolgozással, léccel lehúzva, kavicsbetonból, C 8/10 - C 16/20 kissé képlékeny konzisztenciájú betonból, 10 cm vastagságig C8/10 - XN(H) kissé képlékeny kavicsbeton keverék CEM 32,5 pc. Dmax = 16 mm, m = 6,3 finomsági modulussal | D7: 31.5 | E7: m3 | F7: 0 | G7: 0 | H7: =ROUND(D7*F7,0) -> 0 | I7: =ROUND(D7*G7,0) -> 0 | L7: =ROUND($D7*J7,0) -> 0 | M7: =ROUND($D7*K7,0) -> 0 | P7: =ROUND($D7*N7,0) -> 0 | Q7: =ROUND($D7*O7,0) -> 0 | T7: =ROUND($D7*R7,0) -> 0 | U7: =ROUND($D7*S7,0) -> 0 | X7: =ROUND($D7*V7,0) -> 0 | Y7: =ROUND($D7*W7,0) -> 0
C9: Munkanem összesen: | H9: =SUM(H3:H7) -> 0 | I9: =SUM(I3:I7) -> 0 | L9: =SUM(L3:L7) -> 0 | M9: =SUM(M3:M7) -> 0 | P9: =SUM(P3:P7) -> 0 | Q9: =SUM(Q3:Q7) -> 0 | T9: =SUM(T3:T7) -> 0 | U9: =SUM(U3:U7) -> 0 | X9: =SUM(X3:X7) -> 0 | Y9: =SUM(Y3:Y7) -> 0
L10: =SUM(#REF!,#REF!,L9,#REF!) -> #REF! | M10: =SUM(#REF!,#REF!,M9,#REF!) -> #REF! | P10: =SUM(#REF!,#REF!,P9,#REF!) -> #REF! | Q10: =SUM(#REF!,#REF!,Q9,#REF!) -> #REF! | T10: =SUM(#REF!,#REF!,T9,#REF!) -> #REF! | U10: =SUM(#REF!,#REF!,U9,#REF!) -> #REF! | X10: =SUM(#REF!,#REF!,X9,#REF!) -> #REF! | Y10: =SUM(#REF!,#REF!,Y9,#REF!) -> #REF!

Sheet Ácsmunka
A1: Ssz. | B1: Tételszám | C1: Tétel szövege | D1: Menny. | E1: Egység | F1: Anyag egységár | G1: Díj egységre | H1: Anyag összesen | I1: Díj összesen
A3: 1 | B3: 35-000-002.2 | C3: Tetőlécezés bontása bármely kettős cserépfedés alatt | D3: 556 | E3: m2 | G3: 0 | H3: =ROUND(D3*F3, 0) -> 0 | I3: =ROUND(D3*G3, 0) -> 0
A5: 3 | B5: 35-001-1.5-0680041 | C5: Fa tetőszerkezetek szükség szerinti cseréje bármely rendszerben faragott (fűrészelt) fából, 0,037-0,042 m3/m2 bedolgozott famennyiség között bontással együtt Fűrészelt gerenda 150x200-300x300 mm 3-6.5 m I.o. | D5: 256 | E5: m2 | F5: 0 | G5: 0 | H5: =ROUND(D5*F5, 0) -> 0 | I5: =ROUND(D5*G5, 0) -> 0
A7: 3 | B7: 35-002-1-0113021 | C7: Fóliaterítés és -felerősítés 10 cm-es átfedéssel MASTERPLAST Isoflex Classic PP szövet alapú tetőfólia magas szakítószilárdsággal mérsékelten hővisszaverő felülettel, W1, Cikkszám: 0205-00015000 | D7: 556 | E7: m2 | F7: 0 | G7: 0 | H7: =ROUND(D7*F7, 0) -> 0 | I7: =ROUND(D7*G7, 0) -> 0
A9: 4 | B9: 35-003-001.1-0410022 | C9: Tetőlécezés hornyolt cserépfedés alá Fenyő tetőléc 3-6,5 m 24x50 mm | D9: 556 | E9: m2 | F9: 0 | G9: 0 | H9: =ROUND(D9*F9, 0) -> 0 | I9: =ROUND(D9*G9, 0) -> 0
A11: 5 | B11: 35-011-001.1.2-0251505 | C11: Faanyag gomba és rovarkártevő elleni megelőző védelme merítéses, bemártásos fürösztéses technológiával felhordott anyaggal PANNON-PROTECT WOLMANIT CX-H200 cc. beltéri faanyagvédő szer koncentrátum, kékes zöld | D11: 256 | E11: m2 | F11: 0 | G11: 0 | H11: =ROUND(D11*F11, 0) -> 0 | I11: =ROUND(D11*G11, 0) -> 0
A13: 7 | B13: 35-004-001.3 | C13: Deszkázás ereszdeszkázás gyalult, hornyolt deszkával, hajópadlóval | D13: 80 | E13: m2 | F13: 0 | G13: 0 | H13: =ROUND(D13*F13, 0) -> 0 | I13: =ROUND(D13*G13, 0) -> 0
C15: Munkanem összesen: | H15: =ROUND(SUM(H2:H14),0) -> 0 | I15: =ROUND(SUM(I2:I14),0) -> 0

Sheet Vakolás és rabicolás
A1: Ssz. | B1: Tételszám | C1: Tétel szövege | D1: Menny. | E1: Egység | F1: Anyag egységár | G1: Díj egységre | H1: Anyag összesen | I1: Díj összesen
A2: 1 | B2: 36-000-001.1.1 | C2: Vakolat leverése szükséges mértékben, illetve 1,00 m magasságig oldalfalról vagy mennyezetről 1,5 cm vastagságig falazó, cementes mészhabarcs | D2: 280 | E2: m2 | G2: 0 | H2: =ROUND(D2*F2, 0) -> 0 | I2: =ROUND(D2*G2, 0) -> 0
A4: 2 | B4: 36-012-002.2.1.1-0148696 | C4: Szellőző, falszárító felújító vakolat készítése, erős (magas) só és nedvességtartalom esetén WTA rendszerben, kézi felhordással, szárazhabarcsból, felületelőkészítéssel (alapozó, előfröcskölő, gúz), alsó, felső vakolatréteggel, összesen 3 cm vastagságban | D4: 280 | E4: m2 | F4: 0 | G4: 0 | H4: =ROUND(D4*F4, 0) -> 0 | I4: =ROUND(D4*G4, 0) -> 0
C5: Javító-szárító kiegyenlítővakolat Javító-szárító alapvakolat
A7: 3 | B7: 36-012-3-0148698 | C7: Falszárító, felújító vakolaton simítóvakolat készítése, 5 mm vastagságban Javító-szárító felsővakolat | D7: 280 | E7: m2 | F7: 0 | G7: 0 | H7: =ROUND(D7*F7, 0) -> 0 | I7: =ROUND(D7*G7, 0) -> 0
B9: M39-005-2.2.1-0120021 | C9: Szabadon álló előtétfal készítése, ásványgyapot szigetelőanyag kitöltéssel, csavarfejek és illesztések glettelve (Q2), 2 rtg. gipszkarton borítással, CW 50-06 mm vtg. tartóvázzal, 2 rtg. RIGIPS RBI 12,5 mm vtg. impregnált építőlemez, ásványi szálas hőszigetelés 50 mm vtg. | D9: 4.52 | E9: m2 | F9: 0 | G9: 0 | H9: =ROUND(D9*F9,) -> 0 | I9: =ROUND(D9*G9,) -> 0
C11: Munkanem összesen: | H11: =ROUND(SUM(H2:H10),0) -> 0 | I11: =ROUND(SUM(I2:I10),0) -> 0

Sheet Égéstermék elvezető berendezése
A1: Ssz. | B1: Tételszám | C1: Tétel szövege | D1: Menny. | E1: Egység | F1: Anyag egységár | G1: Díj egységre | H1: Anyag összesen | I1: Díj összesen
A2: 1 | B2: 37-000-001.2 | C2: Kémények bontása, tetőn kívül | E2: m3 | G2: 0 | H2: =ROUND(D2*F2, 0) -> 0 | I2: =ROUND(D2*G2, 0) -> 0
C4: Munkanem összesen: | H4: =ROUND(SUM(H2:H3),0) -> 0 | I4: =ROUND(SUM(I2:I3),0) -> 0

Sheet Tetőfedés
A1: Ssz. | B1: Tételszám | C1: Tétel szövege | D1: Menny. | E1: Egység | F1: Anyag egységár | G1: Díj egységre | H1: Anyag összesen | I1: Díj összesen
A2: 1 | B2: 41-000-004 | C2: Tetőfedés bontása (bármely rendszerű) | D2: 556 | E2: m2 | G2: 0 | H2: =ROUND(D2*F2, 0) -> 0 | I2: =ROUND(D2*G2, 0) -> 0
A4: 2 | B4: 41-003-101.1.1.1-0115001 | C4: Egyszeres fedés sajtolt égetett agyag tetőcserepekkel, gyártótól és típustól független, rögzítés nélkül, 25-30° tetőhajlásszög között TONDACH kerámia alapcserép, 25,5x40 cm, téglavörös | D4: 556 | E4: m2 | F4: 0 | G4: 0 | H4: =ROUND(D4*F4, 0) -> 0 | I4: =ROUND(D4*G4, 0) -> 0
C6: Munkanem összesen: | H6: =ROUND(SUM(H2:H5),0) -> 0 | I6: =ROUND(SUM(I2:I5),0) -> 0

Sheet Burkolás
A1: Ssz. | B1: Tételszám | C1: Tétel szövege | D1: Menny. | E1: Egység | F1: Anyag egységár | G1: Díj egységre | H1: Anyag összesen | I1: Díj összesen
A2: 1 | B2: 42-012-001.1.3.2.1.1-0314058 | C2: Fal- , pillér- és oszlopburkolat készítése beltérben, kenhető szigetelésre, gres, kőporcelán lappal, kötésben vagy hálósan, 3-5 mm vtg. ragasztóba rakva, 1-10 mm fugaszéleséggel, 20x20 - 40x40 cm közötti lapmérettel | D2: 54 | E2: m2 | F2: 0 | G2: 0 | H2: =ROUND(D2*F2, 0) -> 0 | I2: =ROUND(D2*G2, 0) -> 0
A4: 2 | B4: 42-022-001.1.1.2.1.1-0314061 | C4: Padlóburkolat készítése, beltérben, tégla, beton, vakolt alapfelületen, gres, kőporcelán lappal, | D4: 63.1 | E4: m2 | F4: 0 | G4: 0 | H4: =ROUND(D4*F4, 0) -> 0 | I4: =ROUND(D4*G4, 0) -> 0
C5: kötésben vagy hálósan, 3-5 mm vtg. ragasztóba rakva, 1-10 mm fugaszéleséggel, 20x20 - 40x40 cm közötti lapmérettel MUREXIN FSZ finomkőlap és gres ragasztó, fugázó, fehér
A7: 2 | B7: 42-042-005.1.1-0312119 | C7: Laminált padló fektetése, kiegyenlített aljzatra, telibe ragasztva (mechanikus illesztésű)) Tarkett Smart AC4 kopásáll. laminált burkolat, 8 mm vtg., 19,2 cm x 129,2 cm 20 szín | D7: 68.54 | E7: m2 | F7: 0 | G7: 0 | H7: =ROUND(D7*F7, 0) -> 0 | I7: =ROUND(D7*G7, 0) -> 0
A9: 3 | B9: K42-090-1.9 | C9: Tégla falburkolat javítása, fugázás pótlása, előirányzat: a teljes felület 20%-a | D9: 70 | E9: m2 | F9: 0 | G9: 0 | H9: =ROUND(D9*F9,) -> 0 | I9: =ROUND(D9*G9,) -> 0
B11: M42-090-9.2.3 | C11: Kőburkolatok javítása, felfrissítése csiszolással, márvány zabcsésze | D11: 12 | E11: db | G11: 0 | H11: =ROUND(D11*F11,) -> 0 | I11: =ROUND(D11*G11,) -> 0
B13: 42-091-1.1 | C13: Faragott kő és téglaburkolat tisztítása; Falburkoló téglából falazott falburkolat tisztítása JOS eljárással, 2.2-2.5 bar üstnyomással | D13: 310 | E13: m2 | G13: 0 | H13: =ROUND(D13*F13,) -> 0 | I13: =ROUND(D13*G13,) -> 0
C15: Munkanem összesen: | H15: =ROUND(SUM(H2:H14),0) -> 0 | I15: =ROUND(SUM(I2:I14),0) -> 0

Sheet Bádogozás
A1: Ssz. | B1: Tételszám | C1: Tétel szövege | D1: Menny. | E1: Egység | F1: Anyag egységár | G1: Díj egységre | H1: Anyag összesen | I1: Díj összesen
A2: 1 | B2: 43-000-001 | C2: Függőereszcsatorna bontása, 50 cm kiterített szélességig | D2: 90 | E2: m | G2: 0 | H2: =ROUND(D2*F2, 0) -> 0 | I2: =ROUND(D2*G2, 0) -> 0
A4: 2 | B4: 43-000-005 | C4: Lefolyó csatorna bontása 50 cm kiterített szélességig | D4: 50.4 | E4: m | G4: 0 | H4: =ROUND(D4*F4, 0) -> 0 | I4: =ROUND(D4*G4, 0) -> 0
A6: 3 | B6: 43-000-7 | C6: Szegélyek, párkány könyöklő bontása, 100 cm kiterített szélességig | D6: 8 | E6: m | G6: 0 | H6: =ROUND(D6*F6,) -> 0 | I6: =ROUND(D6*G6,) -> 0
A8: 4 | B8: 43-000-8 | C8: Falfedések egy vagy két vízorros, hajlatbádog bontása,100 cm kiterített szélességig | D8: 28 | E8: m | G8: 0 | H8: =ROUND(D8*F8,) -> 0 | I8: =ROUND(D8*G8,) -> 0
A10: 5 | B10: 43-002-001.1-0147122 | C10: Függőereszcsatorna szerelése, félkörszelvényű, bármilyen kiterített szélességben, festett horganyzottlemezből 33-as függőereszcsatorna, 0,5 mm/4 m, félkörszelvényű, | D10: 90 | E10: m | F10: 0 | G10: 0 | H10: =ROUND(D10*F10, 0) -> 0 | I10: =ROUND(D10*G10, 0) -> 0
A12: 6 | B12: 43-002-11.1-0147184 | C12: Lefolyócső szerelése kör keresztmetszettel, bármilyen kiterített szélességgel,festett horganyzottlemezből 100-as lefolyócső, 0,5 mm/m, körszelvényű, | D12: 50.4 | E12: m | F12: 0 | G12: 0 | H12: =ROUND(D12*F12, 0) -> 0 | I12: =ROUND(D12*G12, 0) -> 0
A14: 7 | B14: 43-003-001.1.2.2-0993251 | C14: Ereszszegély tüzihorganyzott acél + műanyag bevonat, 0,5 mm vtg., standard színben, Ksz: 50 cm | D14: 90 | E14: m | F14: 0 | G14: 0 | H14: =ROUND(D14*F14, 0) -> 0 | I14: =ROUND(D14*G14, 0) -> 0
A16: 8 | B16: 43-003-005.1.2.1-0993248 | C16: Kéményszegély tüzihorganyzott acél + műanyag bevonat, 0,5 mm vtg., standard színben, Ksz: 33 cm | D16: 8 | E16: m | F16: 0 | G16: 0 | H16: =ROUND(D16*F16, 0) -> 0 | I16: =ROUND(D16*G16, 0) -> 0
A18: 9 | B18: 43-003-007.2.2.1-0993254 | C18: Hajlatbádog tüzihorganyzott acél + műanyag bevonat, 0,5 mm vtg.,standard színben, Ksz: 65 cm | D18: 28 | E18: m | F18: 0 | G18: 0 | H18: =ROUND(D18*F18, 0) -> 0 | I18: =ROUND(D18*G18, 0) -> 0
C20: Munkanem összesen: | H20: =ROUND(SUM(H2:H19),0) -> 0 | I20: =ROUND(SUM(I2:I19),0) -> 0

Sheet Asztalosszerkezetek elhelyezése
A1: Ssz. | B1: Tételszám | C1: Tétel szövege | D1: Menny. | E1: Egység | F1: Anyag egységár | G1: Díj egységre | H1: Anyag összesen | I1: Díj összesen
A2: 1 | B2: 44-000-001.1 | C2: Fa nyílászáró szerkezetek bontása, ajtó, ablak vagy kapu, 2,00 m2-ig | D2: 7.2 | E2: m2 | G2: 0 | H2: =ROUND(D2*F2, 0) -> 0 | I2: =ROUND(D2*G2, 0) -> 0
A4: 2 | B4: 44-000-001.2 | C4: Fa nyílászáró szerkezetek bontása, ajtó, ablak vagy kapu, 2,01-4,00 m2 között | D4: 32 | E4: m2 | G4: 0 | H4: =ROUND(D4*F4, 0) -> 0 | I4: =ROUND(D4*G4, 0) -> 0
A6: 3 | B6: 44-001-001.1.1.2-0131036 | C6: Fa beltéri nyílászárók elhelyezése, előre kihagyott falnyílásba, utólagos elhelyezéssel, tömítés nélkül,(szerelvényezve, finom beállítással), MDF vagy keményhéjszerkezetes ajtó, | D6: 6 | E6: db | F6: 0 | G6: 0 | H6: =ROUND(D6*F6, 0) -> 0 | I6: =ROUND(D6*G6, 0) -> 0
C7: 6,01-10,00 m kerület között ConTacTrade kanadai beltéri kazettás ajtó, tele lemezelt, egyszárnyú, MDF tokkal, kilincs nélkül, 100x210 cm
A9: 4 | B9: K44-090-100 | C9: Meglévő nyílászáró szerkezet felújítása, javítása, pótlása, esetleg cseréje; tok és szárnyszerkezet szükség szerinti faanyagpótlásos javítása, vagy cseréje, rögzítés szükség szerinti megerősítése, meglévő mázolás eltávolítása üvegpor szórással, új felületképzés készítése Tikurilla beeresztő alapozóval és Tikurilla lazúrral kékes-zöld színben; vasalatok, szerelvények javítása, vagy cseréje, hiányzó elemek pótlása; üvegezés szükség szerinti cseréje; a szerkezet illesztése, beállítása, | D9: 2 | E9: db | F9: 0 | G9: 0 | H9: =ROUND(D9*F9, 0) -> 0 | I9: =ROUND(D9*G9, 0) -> 0
C10: befelé nyíló üvegezett bejárati ajtó, mérete: 140 x 230 cm
A12: 5 | B12: K44-090-100 | C12: Meglévő nyílászáró szerkezet felújítása, javítása, pótlása, esetleg cseréje; tok és szárnyszerkezet szükség szerinti faanyagpótlásos javítása, vagy cseréje, rögzítés szükség szerinti megerősítése, meglévő mázolás eltávolítása üvegpor szórással, új felületképzés készítése Tikurilla beeresztő alapozóval és Tikurilla lazúrral kékes-zöld színben; vasalatok, szerelvények javítása, vagy cseréje, hiányzó elemek pótlása; üvegezés szükség szerinti cseréje; a szerkezet illesztése, beállítása, | D12: 4 | E12: db | F12: 0 | G12: 0 | H12: =ROUND(D12*F12, 0) -> 0 | I12: =ROUND(D12*G12, 0) -> 0
C13: kétszárnyú nyíló ablak, méret: 120 x 150 cm
A15: 6 | B15: K44-090-100 | C15: Meglévő nyílászáró szerkezet felújítása, javítása, pótlása, esetleg cseréje; tok és szárnyszerkezet szükség szerinti faanyagpótlásos javítása, vagy cseréje, rögzítés szükség szerinti megerősítése, meglévő mázolás eltávolítása üvegpor szórással, új felületképzés készítése Tikurilla beeresztő alapozóval és Tikurilla lazúrral kékes-zöld színben; vasalatok, szerelvények javítása, vagy cseréje, hiányzó elemek pótlása; üvegezés szükség szerinti cseréje; a szerkezet illesztése, beállítása, | D15: 4 | E15: db | F15: 0 | G15: 0 | H15: =ROUND(D15*F15, 0) -> 0 | I15: =ROUND(D15*G15, 0) -> 0
C16: kétszárnyú nyíló ablak, méret: 120 x 220 cm
A18: 7 | B18: K44-090-100 | C18: Meglévő nyílászáró szerkezet felújítása, javítása, pótlása, esetleg cseréje; tok és szárnyszerkezet szükség szerinti faanyagpótlásos javítása, vagy cseréje, rögzítés szükség szerinti megerősítése, meglévő mázolás eltávolítása üvegpor szórással, új felületképzés készítése Tikurilla beeresztő alapozóval és Tikurilla lazúrral kékes-zöld színben; vasalatok, szerelvények javítása, vagy cseréje, hiányzó elemek pótlása; üvegezés szükség szerinti cseréje; a szerkezet illesztése, beállítása, konszignáció szerinti műszaki tartalommal, istálló kapuk: 142-144/306-310 cm, istálló kapu | D18: 2 | E18: db | F18: 0 | G18: 0 | H18: =ROUND(D18*F18,) -> 0 | I18: =ROUND(D18*G18,) -> 0
A20: 8 | B20: K44-090-100 | C20: Meglévő nyílászáró szerkezet felújítása, javítása, pótlása, esetleg cseréje; tok és szárnyszerkezet szükség szerinti faanyagpótlásos javítása, vagy cseréje, rögzítés szükség szerinti megerősítése, meglévő mázolás eltávolítása üvegpor szórással, új felületképzés készítése Tikurilla beeresztő alapozóval és Tikurilla lazúrral kékes-zöld színben; vasalatok, szerelvények javítása, vagy cseréje, hiányzó elemek pótlása; üvegezés szükség szerinti cseréje; a szerkezet illesztése, beállítása, istálló kapuk: 138/160 cm, szénaledobó ajtó | D20: 2 | E20: db | F20: 0 | G20: 0 | H20: =ROUND(D20*F20,) -> 0 | I20: =ROUND(D20*G20,) -> 0
A22: 9 | B22: K44-090-100 | C22: Meglévő nyílászáró szerkezet felújítása, javítása, pótlása, esetleg cseréje; rögzítés szükség szerinti megerősítése, szárnyszerkezet szükség szerinti faanyagpótlásos javítása, vagy cseréje, meglévő mázolás eltávolítása üvegpor szórással, új felületképzés készítése Tikurilla beeresztő alapozóval és Tikurilla lazúrral kékes-zöld színben; függesztők, görgők, rácsszerkezetek, vasalatok, szerelvények javítása, vagy cseréje, hiányzó elemek pótlása, felületképzése; a szerkezet illesztése, beállítása, deszkázatos tolópanelek: 130/247 cm, deszkázatos tolópanel (box) | D22: 12 | E22: db | F22: 0 | G22: 0 | H22: =ROUND(D22*F22,) -> 0 | I22: =ROUND(D22*G22,) -> 0
C24: Munkanem összesen: | H24: =ROUND(SUM(H2:H23),0) -> 0 | I24: =ROUND(SUM(I2:I23),0) -> 0

Sheet Lakatos szerkezetek
A1: Ssz. | B1: Tételszám | C1: Tétel szövege | D1: Menny. | E1: Egység | F1: Anyag egységár | G1: Díj egységre | H1: Anyag összesen | I1: Díj összesen
A2: 1 | B2: K45-090-100 | C2: Meglévő fém nyílászáró szerkezet felújítása, javítása, pótlása, esetleg cseréje; tok és szárnyszerkezet szükség szerinti javítása, vagy cseréje, rögzítés szükség szerinti megerősítése, meglévő mázolás eltávolítása, új mázolás készítése korróziógátló alapmázolással, közbenső és fedőmázolással; vasalatok, szerelvények javítása, vagy cseréje, hiányzó elemek pótlása; üvegezés szükség szerinti cseréje; a szerkezet illesztése, finom beállítása, 83/68-74 cm, box ablak | D2: 12 | E2: db | F2: 0 | G2: 0 | H2: =ROUND(D2*F2,) -> 0 | I2: =ROUND(D2*G2,) -> 0
A4: 2 | B4: K45-090-100 | C4: Rácsok, korlátok, kerítések felújítása, javítása, idomacél rács vagy korlát, a szerkezet szükség szerinti javítása, hiányzó elemek pótlása, a felület rozsdamentesítése, korróziógátló alapozása, közbenső és fedőmázolása, lépcsőkorlát | D4: 8 | E4: db | F4: 0 | G4: 0 | H4: =ROUND(D4*F4,) -> 0 | I4: =ROUND(D4*G4,) -> 0
C6: Munkanem összesen: | H6: =ROUND(SUM(H2:H5),0) -> 0 | I6: =ROUND(SUM(I2:I5),0) -> 0

Sheet Felületképzés (festés, mázolás,
A1: Ssz. | B1: Tételszám | C1: Tétel szövege | D1: Menny. | E1: Egység | F1: Anyag egységár | G1: Díj egységre | H1: Anyag összesen | I1: Díj összesen
A2: 1 | B2: 47-011-031.1.1-0159505 | C2: Speciális műanyag-diszperziós kötőanyagú falfestés, erősen szennyezett, füst,-nikotinfoltos falfelületen, vizes bázisú falfesték rendszerrel, fehér színben, vakolaton, két rétegben, tagolatlan sima felületen Caparol Isodeck műanyag diszperziós belső | D2: 990 | E2: m2 | F2: 0 | G2: 0 | H2: =ROUND(D2*F2, 0) -> 0 | I2: =ROUND(D2*G2, 0) -> 0
C3: falfesték, fehér, Caparol fehér szigetelő alapozóval
A5: 2 | B5: 47-031-003.12.2.1-0152820 | C5: Külső fafelületek lazúrozása, gyalult felületen, oldószeres lazúrral,két rétegben, tagolatlan felületen Sadolin Extra vastaglazúr, színtelen,EAN: 5992453081277 | D5: 80 | E5: m2 | F5: 0 | G5: 0 | H5: =ROUND(D5*F5, 0) -> 0 | I5: =ROUND(D5*G5, 0) -> 0
C7: Munkanem összesen: | H7: =ROUND(SUM(H2:H6),0) -> 0 | I7: =ROUND(SUM(I2:I6),0) -> 0

Sheet Szigetelés
A1: Ssz. | B1: Tételszám | C1: Tétel szövege | D1: Menny. | E1: Egység | F1: Anyag egységár | G1: Díj egységre | H1: Anyag összesen | I1: Díj összesen
A3: 2 | B3: 48-013-12.1 | C3: Szigetelés Üzemi és használati víz elleni bevonatszigetelések Üzemi-használati víz elleni, víznyomásnak nem kitett helyzetű, kerámia vagy GRES lapburkolat alattifüggőleges falszigetelés bevonatszigeteléssel,két rétegben, minimum 1,0 mm száraz rétegvastagságú, kétkomponensűún. "folyékony fóliával" (rugalmas műanyagdiszperzió)glettvassal vagy hengerrel felhordva KEMIKÁL SORIFLEX 2K folyékony fólia kül- és beltérre, flexibilis, fagyálló | D3: 20 | E3: m2 | F3: 0 | G3: 0 | H3: =D3*F3 -> 0 | I3: =D3*G3 -> 0
C5: Munkanem összesen: | H5: =ROUND(SUM(H2:H4),0) -> 0 | I5: =ROUND(SUM(I2:I4),0) -> 0

Sheet Elektromos energia ellátás, vil
A1: Ssz. | B1: Tételszám | C1: Tétel szövege | D1: Menny. | E1: Egység | F1: Anyag egységár | G1: Díj egységre | H1: Anyag összesen | I1: Díj összesen
A2: 1 | B2: 71-002-001.1-0000001 | C2: Épületen belüli elektromos vezetékrendszer bontása, újra veztékelése, méréssel, fogyasztási helyek kipítésével, világítás kiépítésável elektromos fűtési rendszerrel kompletten | D2: 1 | E2: tétel | F2: 0 | G2: 0 | H2: =ROUND(D2*F2, 0) -> 0 | I2: =ROUND(D2*G2, 0) -> 0
C4: Munkanem összesen: | H4: =ROUND(SUM(H2:H3),0) -> 0 | I4: =ROUND(SUM(I2:I3),0) -> 0

Sheet Általános épületgépészeti szere
A1: Ssz. | B1: Tételszám | C1: Tétel szövege | D1: Menny. | E1: Egység | F1: Anyag egységár | G1: Díj egységre | H1: Anyag összesen | I1: Díj összesen
A2: 1 | B2: 80-001-1.2.1.1.1-0091808 | C2: Épületgépészeti rendszer teljes cseréje, 1db zuhanyzó, 1 db mosdó, 1db wc kiépítésével | D2: 1 | E2: tétel | F2: 0 | G2: 0 | H2: =ROUND(D2*F2, 0) -> 0 | I2: =ROUND(D2*G2, 0) -> 0
C4: Munkanem összesen: | H4: =ROUND(SUM(H2:H3),0) -> 0 | I4: =ROUND(SUM(I2:I3),0) -> 0
