Workbook

Sheet Összesítő
A1: KÖLTSÉGVETÉS
A3: Kincsem Park, 800 l/perc vízhozamú kút, kút-felsőrész, kútgépészet.
A6: S.Sz. | B6: Munkanem | C6: Anyag (Ft) | D6: Díj (Ft) | E6: Összesen (Ft)
A7: 1. | B7: Előkészítő munkák | C7: =SUM('Előkészítő munka'!G15) -> 0 | D7: =SUM('Előkészítő munka'!H15) -> 0 | E7: =SUM(C7:D7) -> 0
A8: 2. | B8: Felvonulás, fel- és leszerelés | C8: =SUM('Felvonulás fel és leszerelés'!G13) -> 0 | D8: =SUM('Felvonulás fel és leszerelés'!H13) -> 0 | E8: =SUM(C8:D8) -> 0
A9: 3. | B9: Fúrás-csövezés | C9: =SUM('Fúrás-csövezés'!G21) -> 0 | D9: =SUM('Fúrás-csövezés'!H21) -> 0 | E9: =SUM(C9:D9) -> 0
A10: 4. | B10: Kútkiképzés | C10: =SUM(Kútkiképzés!G15) -> 0 | D10: =SUM(Kútkiképzés!H15) -> 0 | E10: =SUM(C10:D10) -> 0
A11: 5. | B11: Kiegészítő munkák | C11: =SUM('Kiegészítő munkák'!G13) -> 0 | D11: =SUM('Kiegészítő munkák'!H13) -> 0 | E11: =SUM(C11:D11) -> 0
A12: 6. | B12: Műszeres munkák | C12: =SUM('Műszeres munkák'!G21) -> 0 | D12: =SUM('Műszeres munkák'!H21) -> 0 | E12: =SUM(C12:D12) -> 0
A13: 7. | B13: Kútfelsőrész kiképzés | C13: =SUM('Kútfelsőrész készítés'!G57) -> 0 | D13: =SUM('Kútfelsőrész készítés'!H57) -> 0 | E13: =SUM(C13:D13) -> 0
A14: 8. | B14: Bekötő vezeték építése | C14: =SUM('Vezeték építés'!H36) -> 0 | D14: =SUM('Vezeték építés'!I36) -> 0 | E14: =SUM(C14:D14) -> 0
A15: 9. | B15: Puffertároló készítés | C15: =SUM('Puffertároló építés'!G41) -> 0 | D15: =SUM('Puffertároló építés'!H41) -> 0 | E15: =SUM(C15:D15) -> 0
A16: 10. | B16: Tervezés | C16: 0 | D16: 0 | E16: =SUM(C16:D16) -> 0
B17: Összesen nettó | C17: =SUM(C7:C16) -> 0 | D17: =SUM(D7:D16) -> 0 | E17: =SUM(E7:E16) -> 0
B20: Kelt.: 2016. április

Sheet Előkészítő munka
B1: 1. Előkészítő munkák
A3: Srsz. | B3: Munka megnevezése | C3: Menny. | D3: M.E. | E3: Anyag egység ár | F3: Díj egység ár | G3: Anyag össz. ár | H3: Díj össz. ár | I3: Összesen
A5: 1. | B5: Fúróberendezés iszapgödreinek kialakítása fóliabéléssel | C5: 60 | D5: m3 | E5: 0 | F5: 0 | G5: =E5*C5 -> 0 | H5: =F5*C5 -> 0 | I5: =SUM(G5:H5) -> 0
A7: 2. | B7: Villamos energia biztosítása ideiglenes mérő felszerelésével | C7: 2 | D7: db | E7: 0 | F7: 0 | G7: =E7*C7 -> 0 | H7: =F7*C7 -> 0 | I7: =SUM(G7:H7) -> 0
A9: 3. | B9: GT 38V gumitömlő vezeték 4 x 25 mm2 | C9: 300 | D9: fm | E9: 0 | F9: 0 | G9: =E9*C9 -> 0 | H9: =F9*C9 -> 0 | I9: =SUM(G9:H9) -> 0
A11: 4. | B11: Öblítővíz biztosítása NA 40-es ideiglenes KPE csővel, csatlakozóhely kiépítésével | C11: 100 | D11: fm | E11: 0 | F11: 0 | G11: =E11*C11 -> 0 | H11: =F11*C11 -> 0 | I11: =SUM(G11:H11) -> 0
A13: 5. | B13: Vízelvezetés D 110 KPE csővel, ideiglenes | C13: 60 | D13: fm | E13: 0 | F13: 0 | G13: =E13*C13 -> 0 | H13: =F13*C13 -> 0 | I13: =SUM(G13:H13) -> 0
B15: Összesen | G15: =SUM(G5:G14) -> 0 | H15: =SUM(H4:H14) -> 0 | I15: =SUM(I5:I13) -> 0

Sheet Felvonulás fel és leszerelés
B1: 2. Felvonulás, fel- és leszerelés
A3: Srsz. | B3: Munka megnevezése | C3: Mennyiség | D3: M.E. | E3: Anyag egység ár | F3: Díj egység ár | G3: Anyag össz.ár | H3: Díj össz. | I3: Összesen
A5: 1. | B5: F-2. típusú fúróerendezés felvonulása fel- és lerakodással, a szállítás alatti rezsiköltséggel, lakókonténerek elhelyezésével 100 km távolságról | C5: 1 | D5: db | E5: 0 | F5: 0 | G5: =E5*C5 -> 0 | H5: =PRODUCT(F5*C5) -> 0 | I5: =SUM(G5:H5) -> 0
A7: 2. | B7: F-2. típusú fúróerendezés fel- és leszerelése a munkahelyen | C7: 2 | D7: db | E7: 0 | F7: 0 | G7: =E7*C7 -> 0 | H7: =F7*C7 -> 0 | I7: =SUM(G7:H7) -> 0
A9: 3. | B9: Kiegészítő szállítás, cső, cement, iszapjavítók, daruzással, fel- és lerakással 100 km távolságról | C9: 2 | D9: db | E9: 0 | F9: 0 | G9: =E9*C9 -> 0 | H9: =F9*C9 -> 0 | I9: =SUM(G9:H9) -> 0
A11: 4. | B11: Fúróberendezés átállása 150 m | C11: 1 | D11: db | E11: 0 | F11: 0 | G11: =E11*C11 -> 0 | H11: =PRODUCT(F11) -> 0 | I11: =SUM(G11:H11) -> 0
B13: Összesen | G13: =SUM(G5:G11) -> 0 | H13: =SUM(H4:H12) -> 0 | I13: =SUM(I5:I11) -> 0

Sheet Fúrás-csövezés
B1: 3. Fúrás-csövezés
A3: Srsz. | B3: Munka megnevezése | C3: Mennyiség | D3: M.E. | E3: Anyag egység ár | F3: Díj egység ár | G3: Anyag össz.ár | H3: Díj össz. | I3: Összesen
A5: 1. | B5: Teljesszelvényű fúrás jobb öblítéssel, 460 mm Ø-vel 'A' fúrhatóságú üledékes kőzetben 2x10 m -ig | C5: 20 | D5: fm | E5: 0 | F5: 0 | G5: =E5*C5 -> 0 | H5: =F5*C5 -> 0 | I5: =SUM(G5:H5) -> 0
A7: 2. | B7: 150 mm-es kereső fúrás és 360 mm-es bővítő fúrás készítése kútanként, a meglévő vízjogi létesítési engedély alapján (a két kútra vonatkozóan összesen 800 l/perc vízhozamnak megfelelően) | C7: 2 | D7: klt | E7: 0 | F7: 0 | G7: =E7*C7 -> 0 | H7: =F7*C7 -> 0 | I7: =SUM(G7:H7) -> 0
A9: 3. | B9: Acél iránycső beépítése 0-10 m-ig 406 x 6 mm spirálhegesztett | C9: 20 | D9: fm | E9: 0 | F9: 0 | G9: =E9*C9 -> 0 | H9: =F9*C9 -> 0 | I9: =SUM(G9:H9) -> 0
A11: 4. | B11: Acél záró rakat beépítése 244 x 6 mm hegeszett kötéssel DIN 2448 St 37.0 , a meglévő vízjogi létesítési engedély alapján (a két kútra vonatkozóan összesen 800 l/perc vízhozamnak megfelelően) | C11: 2 | D11: klt | E11: 0 | F11: 0 | G11: =E11*C11 -> 0 | H11: =F11*C11 -> 0 | I11: =SUM(G11:H11) -> 0
A13: 5. | B13: Acél szűrőcső beépítése központosítókkal, 139 x 6,2 mm acélcső , a meglévő vízjogi létesítési engedély alapján (a két kútra vonatkozóan összesen 800 l/perc vízhozamnak megfelelően) | C13: 2 | D13: klt | E13: 0 | F13: 0 | G13: =E13*C13 -> 0 | H13: =F13*C13 -> 0 | I13: =SUM(G13:H13) -> 0
A15: 6. | B15: Szűrő elhelyezése szűrőcsőre 139 mm Ø JOHNSON 0,7 mm, a meglévő vízjogi létesítési engedély alapján (a két kútra vonatkozóan összesen 800 l/perc vízhozamnak megfelelően) | C15: 2 | D15: klt | E15: 0 | F15: 0 | G15: =E15*C15 -> 0 | H15: =F15*C15 -> 0 | I15: =SUM(G15:H15) -> 0
A17: 7. | B17: Öblítő iszap készítése | C17: 60 | D17: m3 | E17: 0 | F17: 0 | G17: =E17*C17 -> 0 | H17: =F17*C17 -> 0 | I17: =SUM(G17:H17) -> 0
A19: 8. | B19: Öblítő iszap elszállítása | C19: 60 | D19: m3 | E19: 0 | F19: 0 | G19: =E19*C19 -> 0 | H19: =F19*C19 -> 0 | I19: =SUM(G19:H19) -> 0
B21: Összesen | G21: =SUM(G5:G19) -> 0 | H21: =SUM(H5:H19) -> 0 | I21: =SUM(I5:I19) -> 0

Sheet Kútkiképzés
B1: 4 Kútkiképzés
A3: Srsz. | B3: Munka megnevezése | C3: Mennyiség | D3: M.E. | E3: Anyag egység ár | F3: Díj egység ár | G3: Anyag össz.ár | H3: Díj össz. | I3: Összesen
A5: 1. | B5: Szűrőmosatás a mosatófej beépítésével 120-250 m között | C5: 20 | D5: óra | E5: 0 | F5: 0 | G5: =E5*C5 -> 0 | H5: =F5*C5 -> 0 | I5: =SUM(G5:H5) -> 0
A7: 2. | B7: Kompresszorozás 7 m3/p 7 bar. kompresszorral | C7: 96 | D7: óra | E7: 0 | F7: 0 | G7: =E7*C7 -> 0 | H7: =F7*C7 -> 0 | I7: =SUM(G7:H7) -> 0
A9: 3. | B9: Búvárszivattyú üzem a fúróberendezés gépóra költségével Q = 40 m3/h H = 50 m búvárszivattyúval | C9: 96 | D9: óra | E9: 0 | F9: 0 | G9: =E9*C9 -> 0 | H9: =F9*C9 -> 0 | I9: =SUM(G9:H9) -> 0
A11: 4. | B11: Talptisztítás, talpellenőrzés | C11: 20 | D11: óra | E11: 0 | F11: 0 | G11: =E11*C11 -> 0 | H11: =F11*C11 -> 0 | I11: =SUM(G11:H11) -> 0
A13: 5. | B13: Fúróberendezés gépüzemóra költsége műszeres kútvizsgálatok alatt. | C13: 48 | D13: óra | E13: 0 | F13: 0 | G13: =E13*C13 -> 0 | H13: =F13*C13 -> 0 | I13: =SUM(G13:H13) -> 0
B15: Összesen | G15: =SUM(G5:G13) -> 0 | H15: =SUM(H4:H13) -> 0 | I15: =SUM(I5:I13) -> 0

Sheet Kiegészítő munkák
B1: 5. Kiegészítő munkák
A3: Srsz. | B3: Munka megnevezése | C3: Mennyiség | D3: M.E. | E3: Anyag egység ár | F3: Díj egység ár | G3: Anyag össz.ár | H3: Díj össz. | I3: Összesen
A5: 1. | B5: Cementtej elkészítése | C5: 100 | D5: q | E5: 0 | F5: 0 | G5: =E5*C5 -> 0 | H5: =F5*C5 -> 0 | I5: =SUM(G5:H5) -> 0
A7: 2. | B7: Palástcementezés cementező agregátorral, annak gépüzemóra költségével | C7: 2 | D7: db | E7: 0 | F7: 0 | G7: =E7*C7 -> 0 | H7: =F7*C7 -> 0 | I7: =SUM(G7:H7) -> 0
A9: 3. | B9: Cementező agregát felvonulása 100 km távolságról | C9: 2 | D9: db | E9: 0 | F9: 0 | G9: =E9*C9 -> 0 | H9: =F9*C9 -> 0 | I9: =SUM(G9:H9) -> 0
A11: 4. | B11: Kavicsolás zsákos osztályozott kaviccsal kaviccsal, a kavics szállítással, a berendezés üzemóra költséggel | C11: 30 | D11: t | E11: 0 | F11: 0 | G11: =E11*C11 -> 0 | H11: =F11*C11 -> 0 | I11: =SUM(G11:H11) -> 0
B13: Összesen | G13: =SUM(G4:G12) -> 0 | H13: =SUM(H4:H11) -> 0 | I13: =SUM(I5:I12) -> 0

Sheet Műszeres munkák
B1: 6. Műszeres munkák
A3: Srsz. | B3: Munka megnevezése | C3: Mennyiség | D3: M.E. | E3: Anyag egység ár | F3: Díj egység ár | G3: Anyag össz.ár | H3: Díj össz. | I3: Összesen
A5: 1. | B5: Geofizikai csoport kihívása, felvonulása | C5: 2 | D5: db | E5: 0 | F5: 0 | G5: =E5*C5 -> 0 | H5: =F5*C5 -> 0 | I5: =SUM(G5:H5) -> 0
A7: 2. | B7: Geofizikai szelvényezés kutanként | C7: 2 | D7: db | E7: 0 | F7: 0 | G7: =E7*C7 -> 0 | H7: =F7*C7 -> 0 | I7: =SUM(G7:H7) -> 0
A9: 3. | B9: Hidrodinamikai csoport kihívása, felvonulása 100 km távolságról | C9: 2 | D9: db | E9: 0 | F9: 0 | G9: =E9*C9 -> 0 | H9: =F9*C9 -> 0 | I9: =SUM(G9:H9) -> 0
A11: 4. | B11: Hidrodinamikai mérések - talpmélység ellenőrzés, reométerezés, kapacitásmérés, nyomásemelkedés mérés, víz- és gázminta vétel | C11: 2 | D11: db | E11: 0 | F11: 0 | G11: =E11*C11 -> 0 | H11: =F11*C11 -> 0 | I11: =SUM(G11:H11) -> 0
A13: 5. | B13: Hidrodinamikai mérések kiértékelése, adatszolgáltatás | C13: 2 | D13: db | E13: 0 | F13: 0 | G13: =E13*C13 -> 0 | H13: =F13*C13 -> 0 | I13: =SUM(G13:H13) -> 0
A15: 6. | B15: Ivóvíz vizsgálat vegyi és bakt. | C15: 2 | D15: db | E15: 0 | F15: 0 | G15: =E15*C15 -> 0 | H15: =F15*C15 -> 0 | I15: =SUM(G15:H15) -> 0
A17: 7. | B17: Geodéziai bemérés, kiszállás 100 km távolságról | C17: 2 | D17: db | E17: 0 | F17: 0 | G17: =E17*C17 -> 0 | H17: =F17*C17 -> 0 | I17: =SUM(G17:H17) -> 0
A19: 8. | B19: Vízföldtani napló elkészítése | C19: 2 | D19: db | E19: 0 | F19: 0 | G19: =E19*C19 -> 0 | H19: =F19*C19 -> 0 | I19: =SUM(G19:H19) -> 0
B21: Összesen | G21: =SUM(G5:G19) -> 0 | H21: =SUM(H5:H19) -> 0 | I21: =SUM(I5:I19) -> 0

Sheet Kútfelsőrész készítés
B1: 7. Kútfelsőrész kiképzés, bekötés
A3: Srsz. | B3: Munka megnevezése | C3: Mennyiség | D3: M.E. | E3: Anyag egység ár | F3: Díj egység ár | G3: Anyag össz.ár | H3: Díj össz. | I3: Összesen
A5: 1. | B5: Kútakna részére földmunka, munkagödör földkiemelése, visszatöltés, tömörítés tereprendezés | C5: 24 | D5: m3 | E5: 0 | F5: 0 | G5: =E5*C5 -> 0 | H5: =F5*C5 -> 0 | I5: =SUM(G5:H5) -> 0
A7: 2. | B7: Előregyártott vasbeton kútakna elhelyezése, szállítása, 1,5x1,5x 2,0 m belmérettel C 30/35 vízzáró betonból, aknaszerelvényekkel | C7: 2 | D7: db | E7: 0 | F7: 0 | G7: =E7*C7 -> 0 | H7: =F7*C7 -> 0 | I7: =SUM(G7:H7) -> 0
A9: 3. | B9: Karima MSZ 40 400/245 mm | C9: 2 | D9: db | E9: 0 | F9: 0 | G9: =E9*C9 -> 0 | H9: =F9*C9 -> 0 | I9: =SUM(G9:H9) -> 0
A11: 4. | B11: Részletterv szerinti kútlezárás, acélcső ívvel, furatokkal | C11: 2 | D11: db | E11: 0 | F11: 0 | G11: =E11*C11 -> 0 | H11: =F11*C11 -> 0 | I11: =SUM(G11:H11) -> 0
A13: 5. | B13: Búvárszivattyú beépítése Q = 40 m3/h, H = 50 m, 40 m előir. Mélységig | C13: 2 | D13: db | E13: 0 | F13: 0 | G13: =E13*C13 -> 0 | H13: =F13*C13 -> 0 | I13: =SUM(G13:H13) -> 0
A15: 6. | B15: KPE védőcső kábelekhez D 63 | C15: 10 | D15: fm | E15: 0 | F15: 0 | G15: =E15*C15 -> 0 | H15: =F15*C15 -> 0 | I15: =SUM(G15:H15) -> 0
A17: 7. | B17: Autódaru használata, annak helyszínre szállítása | C17: 12 | D17: óra | E17: 0 | F17: 0 | G17: =E17*C17 -> 0 | H17: =F17*C17 -> 0 | I17: =SUM(G17:H17) -> 0
A19: 8. | B19: Csővezeték szerelése szabadon idomos - karmantyús kötéssel 114x4,5 mm búvárszivattyú beépítéséhez | C19: 80 | D19: m | E19: 0 | F19: 0 | G19: =E19*C19 -> 0 | H19: =F19*C19 -> 0 | I19: =SUM(G19:H19) -> 0
A21: 9. | B21: Vízszintfigyelő cső beépítése, 5/4" KPE | C21: 70 | D21: fm | E21: 0 | F21: 0 | G21: =E21*C21 -> 0 | H21: =F21*C21 -> 0 | I21: =SUM(G21:H21) -> 0
A23: 10. | B23: Vízóra, karimás NA 100 távadós | C23: 2 | D23: db | E23: 0 | F23: 0 | G23: =E23*C23 -> 0 | H23: =F23*C23 -> 0 | I23: =SUM(G23:H23) -> 0
A25: 11. | B25: Pillangószelep, NA 100 | C25: 2 | D25: db | E25: 0 | F25: 0 | G25: =E25*C25 -> 0 | H25: =F25*C25 -> 0 | I25: =SUM(G25:H25) -> 0
A27: 12. | B27: Vízszintcsap 1/2" | C27: 2 | D27: db | E27: 0 | F27: 0 | G27: =E27*C27 -> 0 | H27: =F27*C27 -> 0 | I27: =SUM(G27:H27) -> 0
... A55: 26. | B55: Rendszer beszabályozása, beüzemelése | C55: 1 | D55: db | E55: 0 | F55: 0 | G55: =E55*C55 -> 0 | H55: =F55*C55 -> 0 | I55: =SUM(G55:H55) -> 0
B57: Összesen | G57: =SUM(G5:G56) -> 0 | H57: =SUM(H5:H56) -> 0 | I57: =SUM(I5:I56) -> 0

Sheet Vezeték építés
C1: 8. Vezeték építés
A3: Ssz. | B3: Tételszám | C3: Tétel szövege | D3: Menny. | E3: M.E. | F3: Anyag egység ár | G3: Díj egység ár | H3: Anyag össz.ár | I3: Díj össz. | J3: Összesen
A4: 1. | B4: 13-001-1.2.1.2 | C4: Munkaárok dúcolása és bontása 5,00 m mélységig, 5,00 m szélességig, kétoldali dúcolással, függőleges pallózással, 0,80-2,00 m árokszélesség között, zártsorú | D4: 400 | E4: m2 | F4: 0 | G4: 0 | H4: =F4*D4 -> 0 | I4: =G4*D4 -> 0 | J4: =SUM(H4:I4) -> 0
A6: 2. | B6: 15-017-3 | C6: Biztonsági védőkorlát készítése gömbfából, deszkából | D6: 200 | E6: m | F6: 0 | G6: 0 | H6: =F6*D6 -> 0 | I6: =G6*D6 -> 0 | J6: =SUM(H6:I6) -> 0
A8: 3. | B8: 21-003-5.2.1.3.1 | C8: Munkaárok földkiemelése közművesített területen, kézi erővel, bármely konzisztenciájú talajban, dúcolt árokból, 3,0 m árokszélességig, talajosztály: IV. 2,0 m mélységig | D8: 192 | E8: m3 | F8: 0 | G8: 0 | H8: =F8*D8 -> 0 | I8: =G8*D8 -> 0 | J8: =SUM(H8:I8) -> 0
A10: 4. | B10: 21-003-11.1.2 | C10: Földvisszatöltés munkagödörbe vagy munkaárokba, tömörítés nélkül, réteges elterítéssel, I-IV. osztályú talajban, kézi erővel, az anyag súlypontja karoláson belül, a vezetéket (műtárgyat) környező 50 cm-en túli szelvényben | D10: 192 | E10: m3 | F10: 0 | G10: 0 | H10: =F10*D10 -> 0 | I10: =G10*D10 -> 0 | J10: =SUM(H10:I10) -> 0
A12: 5. | B12: 21-004-4.1.2-0120002 | C12: Talajjavító réteg készítése vonalas létesítményeknél, 3,00 m szélességig vagy építményen belül, osztályozatlan kavicsból Nyers homokos kavics, NHK 0/63 Q-TT, KŐKA, Alsózsolca | D12: 24 | E12: m3 | F12: 0 | G12: 0 | H12: =F12*D12 -> 0 | I12: =G12*D12 -> 0 | J12: =SUM(H12:I12) -> 0
A14: 6. | B14: 21-004-5.1.1.1 | C14: Tükörkészítés tömörítés nélkül, sík felületen gépi erővel, kiegészítő kézi munkával talajosztály: I-IV. | D14: 160 | E14: m2 | F14: 0 | G14: 0 | H14: =F14*D14 -> 0 | I14: =G14*D14 -> 0 | J14: =SUM(H14:I14) -> 0
A16: 7. | B16: 21-008-2.3.1 | C16: Tömörítés bármely tömörítési osztályban gépi erővel, vezeték felett és mellett, tömörségi fok: 85% | D16: 192 | E16: m3 | F16: 0 | G16: 0 | H16: =F16*D16 -> 0 | I16: =G16*D16 -> 0 | J16: =SUM(H16:I16) -> 0
A18: 8. | B18: 21-003-11.1.1 | C18: Bányahomok visszatöltés munkagödörbe vagy munkaárokba, tömörítés nélkül, réteges elterítéssel, I-IV. osztályú talajban, kézi erővel, az anyag súlypontja karoláson belül, a vezeték (műtárgy) felett és mellett 50 cm vastagságig | D18: 28 | E18: m3 | F18: 0 | G18: 0 | H18: =F18*D18 -> 0 | I18: =G18*D18 -> 0 | J18: =SUM(H18:I18) -> 0
A20: 9. | B20: 21-011-1.2.1 | C20: Fejtett föld felrakása szállítóeszközre, géppel, talajosztály I-IV., elszállítás 5,0 km távolságra | D20: 70 | E20: m3 | F20: 0 | G20: 0 | H20: =F20*D20 -> 0 | I20: =G20*D20 -> 0 | J20: =SUM(H20:I20) -> 0
A22: 10. | B22: 53-099-1 | C22: Megtámasztó betontömb 50x50x10 C30/37 min. betonból | D22: 4 | E22: db | F22: 0 | G22: 0 | H22: =F22*D22 -> 0 | I22: =G22*D22 -> 0 | J22: =SUM(H22:I22) -> 0
A24: 11. | B24: 54-016-6.1 | C24: Fűtési és vízvezeték szakaszos és hálózati nyomáspróbája vízzel, 200 mm külső Ø-ig | D24: 250 | E24: m | F24: 0 | G24: 0 | H24: =F24*D24 -> 0 | I24: =G24*D24 -> 0 | J24: =SUM(H24:I24) -> 0
A26: 12. | B26: 54-016-7.1 | C26: Csővezetékek fertőtlenítése, DN 200 méretig | D26: 250 | E26: m | F26: 0 | G26: 0 | H26: =F26*D26 -> 0 | I26: =G26*D26 -> 0 | J26: =SUM(H26:I26) -> 0
... A34: 16. | B34: 91-003-3.2.1.1.1-0631103 | C34: Gyepesítés, előkészített talajon magvetéssel, kézzel szórva, vízszintes területen, trágyázás nélkül GOLF fűmagkeverék, 40-50 dkg/10 m2 | D34: 30 | E34: 10m2 | F34: 0 | G34: 0 | H34: =F34*D34 -> 0 | I34: =G34*D34 -> 0 | J34: =SUM(H34:I34) -> 0
C36: Vezeték építés összesen | H36: =SUM(H4:H35) -> 0 | I36: =SUM(I4:I35) -> 0 | J36: =SUM(J4:J35) -> 0

Sheet Puffertároló építés
B1: 9. Puffertároló építés
A3: Ssz. | B3: Tétel szövege | C3: Menny. | D3: Egység | E3: Anyag egység ár | F3: Díj egység ár | G3: Anyag összesen | H3: Díj összesen | I3: Anyag és díj összesen
A5: 1. | B5: Munkaárok földkiemelése közmű nélküli területen,gépi erővel, kiegészítő kézi munkával,bármely konzisztenciájú, I-IV. oszt. talajban, dúcolt árokból, 5,0 m árokszélességig, 3,0 m mélységig | C5: 369 | D5: m3 | E5: 0 | F5: 0 | G5: =PRODUCT(C5,E5) -> 0 | H5: =PRODUCT(C5,F5) -> 0 | I5: =SUM(G5:H5) -> 0
A7: 2. | B7: Biztonsági védőkorlát készítése gömbfából, deszkából | C7: 56 | D7: m | E7: 0 | F7: 0 | G7: =ROUND(C7*E7, 0) -> 0 | H7: =ROUND(C7*F7, 0) -> 0 | I7: =SUM(G7:H7) -> 0
A9: 3. | B9: Munkaárok dúcolása és bontása 5,00 m mélységig, 5,00 m szélességig, kétoldali dúcolással, függőleges pallózással, 0,80-2,00 m árokszélesség között, zártsorú | C9: 160 | D9: m2 | E9: 0 | F9: 0 | G9: =ROUND(C9*E9, 0) -> 0 | H9: =ROUND(C9*F9, 0) -> 0 | I9: =SUM(G9:H9) -> 0
A11: 4. | B11: Földvisszatöltés munkagödörbe vagy munkaárokba,tömörítés nélkül, réteges elterítéssel,I-IV. osztályú talajban, gépi erővel, az anyag súlypontja 10,0 m-en belül, a vezetéket (műtárgyat) környező 50 cm-en túli szelvényrészben | C11: 40 | D11: m3 | E11: 0 | F11: 0 | G11: =ROUND(C11*E11, 0) -> 0 | H11: =ROUND(C11*F11, 0) -> 0 | I11: =SUM(G11:H11) -> 0
A13: 5. | B13: Tükörkészítés tömörítés nélkül, sík felületen, gépi erővelkiegészítő kézi munkával talajosztály: I-IV. | C13: 123 | D13: m2 | E13: 0 | F13: 0 | G13: =ROUND(C13*E13, 0) -> 0 | H13: =ROUND(C13*F13, 0) -> 0 | I13: =SUM(G13:H13) -> 0
A15: 6. | B15: Tömörítés bármely tömörítési osztálybangépi erővel, kis felületen, tömörségi fok: 95% | C15: 61.5 | D15: m3 | E15: 0 | F15: 0 | G15: =ROUND(C15*E15, 0) -> 0 | H15: =ROUND(C15*F15, 0) -> 0 | I15: =SUM(G15:H15) -> 0
A17: 7. | B17: Talajjavító réteg készítésevonalas létesítményeknél, 3,00 m szélességig vagy építményen belül, osztályozatlan kavicsból, Természetes szemmegoszlású homokos kavics, THK 0/32 P-TT | C17: 24.7 | D17: m3 | E17: 0 | F17: 0 | G17: =ROUND(C17*E17, 0) -> 0 | H17: =ROUND(C17*F17, 0) -> 0 | I17: =SUM(G17:H17) -> 0
A19: 8. | B19: Szerelőbeton készítése,.....minőségű betonból, 10 cm vastagságig, C8/10 - XN(H) földnedves kavicsbeton keverék CEM 32,5 pc. Dçmax =32 mm, m = 6,8 finomsági modulussal | C19: 6.15 | D19: m3 | E19: 0 | F19: 0 | G19: =ROUND(C19*E19, 0) -> 0 | H19: =ROUND(C19*F19, 0) -> 0 | I19: =SUM(G19:H19) -> 0
A21: 9. | B21: Sík vagy alulbordás vasbeton lemez készítése, 15°-os hajlásszögig,X0v(H), XC1, XC2, XC3 környezeti osztályú,kissé képlékeny vagy képlékeny konzisztenciájú betonból, kézi erővel, vibrátoros tömörítéssel, 12 cm vastagság felett, C20/25 - XC1 kissé képlékeny kavicsbeton keverék CEM 32,5 pc. Dçmax = 24 mm, m = 7,1 finomsági modulussal 20 cm vastagságban | C21: 18.5 | D21: m3 | E21: 0 | F21: 0 | G21: =ROUND(C21*E21, 0) -> 0 | H21: =ROUND(C21*F21, 0) -> 0 | I21: =SUM(G21:H21) -> 0
A23: 10. | B23: Betonacél-szerelés, Hegesztett betonacél háló szerelése tartószerkezetbe, Hegesztett acélháló; 5,10 x 2,15 m; 150 x 150 mm osztással Ř 10,00 / 10,00 | C23: 1.23 | D23: t | E23: 0 | F23: 0 | G23: =ROUND(C23*E23, 0) -> 0 | H23: =ROUND(C23*F23, 0) -> 0 | I23: =SUM(G23:H23) -> 0
A25: 11. | B25: Betonacél helyszíni szerelése függőleges vagy vízszintes tartószerkezetbe, bordás betonacélból, 12-20 mm átmérő között,FERALPI hidegen húzott bordás betonacél, 6 m-es szálban, BHS55.50 12 mm | C25: 1.16 | D25: t | E25: 0 | F25: 0 | G25: =ROUND(C25*E25, 0) -> 0 | H25: =ROUND(C25*F25, 0) -> 0 | I25: =SUM(G25:H25) -> 0
A27: 12. | B27: Teherhordó és kitöltő falazat készítése, beton falazóblokk vagy zsaluzóelem termékekből, 250 mm falvastagságban, 250x500x250 mm-es méretű, beton zsaluzóelemből, kitöltő betonnal, betonacél beépítéssel, ZS 25-ös zsaluzóelem, 250/500/250 mm, C16/20-16/kissé képlékeny kavicsbeton,B 60.40:12 mm átmérőjű betonacél | C27: 129 | D27: m2 | E27: 0 | F27: 0 | G27: =ROUND(C27*E27, 0) -> 0 | H27: =ROUND(C27*F27, 0) -> 0 | I27: =SUM(G27:H27) -> 0
A29: 13. | B29: Sima oldalfalvakolat készítése kézi felhordással, belső, vakoló cementes mészhabarccsal, beton-, kőfelületen, 1,5 cm vastagságban, Hvb4-mc, belső, vakoló cementes mészhabarccsal ésHs60-c, felületképző (simító), cementhabarccsal | C29: 258 | D29: m2 | E29: 0 | F29: 0 | G29: =ROUND(C29*E29, 0) -> 0 | H29: =ROUND(C29*F29, 0) -> 0 | I29: =SUM(G29:H29) -> 0
... A39: 18. | B39: Próbaüzem | C39: 1 | D39: klt | E39: 0 | F39: 0 | G39: =ROUND(C39*E39, 0) -> 0 | H39: =ROUND(C39*F39, 0) -> 0 | I39: =SUM(G39:H39) -> 0
B41: Összesen | G41: =SUM(G5:G40) -> 0 | H41: =SUM(H5:H40) -> 0 | I41: =SUM(I5:I40) -> 0
