Workbook
Name Munkanem_15: Építészet!$B$101
Name Munkanem_21: Építészet!$B$120
Name Munkanem_22: Építészet!$B$175
Name Munkanem_23: Építészet!$B$185
Name Munkanem_31: Építészet!$B$201
Name Munkanem_32: Építészet!$B$238
Name Munkanem_33: Építészet!$B$251
Name Munkanem_35: Építészet!$B$273
Name Munkanem_35: Statika!$B$59
Name Munkanem_36: Építészet!$B$334
Name Munkanem_39: Építészet!$B$377
Name Munkanem_41: Építészet!$B$390
Name Munkanem_42: Építészet!$B$424
Name Munkanem_43: Építészet!$B$461
Name Munkanem_44: Építészet!$B$516
Name Munkanem_45: Építészet!$B$547
Name Munkanem_47: Építészet!$B$563
Name Munkanem_48: Építészet!$B$615
Name Munkanem_50: Építészet!$B$652
Name Munkanem_53: Építészet!$B$668
Name Munkanem_62: Építészet!$B$678
Name Munkanem_88: Építészet!$B$691
Name Munkanem_90: Építészet!$B$704

Sheet Főösszesítő
A1: Tervező: ÁSZÁRI Iparfejlesztő Kft. | I1: Dátum: 2016.03.07
A2: Cím: 1061 Budapest, Anker köz 2-4.
A8: FŐÖSSZESÍTŐ
A10: KINCSEM NEMZETI LÓVERSENY ÉS LOVAS STRATÉGIAI KFT.
A11: ALAGI TRÉNINGKÖZPONT
A12: MŰEMLÉKI FELÚJÍTÁSI MUNKÁI
A14: VI. TELEP 1. ÉPÜLET - PAPIANCE ISTÁLLÓ
A16: TERVEZŐI KÖLTSÉGVETÉSI KIÍRÁS
H25: Anyag összesen | I25: Díj összesen
B27: Szerkezeti munkák | H27: =Statika!G29 -> 0 | I27: =Statika!H29 -> 0
B29: Építészeti munkák | H29: =Építészet!G71 -> 0 | I29: =Építészet!H71 -> 0
H32: =SUM(H27:H31) -> 0 | I32: =SUM(I27:I31) -> 0
G34: Nettó összesen: | H34: =H32+I32 -> 0
G36: Áfa 27%: | H36: =ROUND(H34*0.27,) -> 0
G38: Bruttó összesen: | H38: =+H36+H34 -> 0
B46: Megjegyzések:
B47: - Ajánlattevőnek a költségvetési kiírást a műszaki leírással és a tervekkel összevetve, műszakilag és mennyiségileg ellenőriznie kell, eltérés esetén
B48: a műszaki leírásban és a tervekben meghatározottak az irányadók.
B49: - Kivitelezői észrevételek a tervezői kiírástól elkülönítve és külön összesítve szerepeltetendők.
B50: - A tételek árazásakor az egységárnak tartalmaznia kell minden fő- és segédanyagot, azok szállítási és anyagigazgatási költségét; előkészítő és
B51: részmunkát, ill. gyártási és elhelyezési/szerelési költséget, segédeszközt, amely a munkafolyamat teljeskörű elvégzéséhez szükséges.
B52: - A költségvetésben szereplő gyártó és/vagy típus megjelölés csak a műszaki tartalom és követelmény egyértelmű meghatározása érdekében
B53: történt, Ajánlattevő ajánlatában más olyan terméket is szerepeltethet, amely a megnevezettel műszakilag és minőségileg egyenértékű. Ebben az
B54: esetben a költségvetési tétel szövege után - jól látható módon - köteles feltüntetni a megajánlott, egyenértékű termék konkrét megnevezését.

Sheet Statika
A1: =Főösszesítő!A1 -> Tervező: ÁSZÁRI Iparfejlesztő Kft. | H1: =Főösszesítő!I1 -> Dátum: 2016.03.07
A2: =Főösszesítő!A2 -> Cím: 1061 Budapest, Anker köz 2-4.
A8: MUNKANEMENKÉNTI ÖSSZESÍTŐ
A10: =Főösszesítő!$A$10 -> KINCSEM NEMZETI LÓVERSENY ÉS LOVAS STRATÉGIAI KFT.
A11: =Főösszesítő!$A$11 -> ALAGI TRÉNINGKÖZPONT
A12: =Főösszesítő!$A$12 -> MŰEMLÉKI FELÚJÍTÁSI MUNKÁI
A14: =Főösszesítő!$A$14 -> VI. TELEP 1. ÉPÜLET - PAPIANCE ISTÁLLÓ
A16: SZERKEZETI MUNKÁK
B23: Munkanem megnevezése | G23: Anyag | H23: Díj
B26: 35. Ácsmunka | G26: =G71 -> 0 | H26: =H71 -> 0
G29: =SUM(G25:G28) -> 0 | H29: =SUM(H25:H28) -> 0
F31: Összesen: | G31: =G29+H29 -> 0
A33: =A1 -> Tervező: ÁSZÁRI Iparfejlesztő Kft. | H33: =H1 -> Dátum: 2016.03.07
A34: =A2 -> Cím: 1061 Budapest, Anker köz 2-4.
A40: KÖLTSÉGVETÉS
A42: =A10 -> KINCSEM NEMZETI LÓVERSENY ÉS LOVAS STRATÉGIAI KFT.
A43: =A11 -> ALAGI TRÉNINGKÖZPONT
A44: =A12 -> MŰEMLÉKI FELÚJÍTÁSI MUNKÁI
A46: =A14 -> VI. TELEP 1. ÉPÜLET - PAPIANCE ISTÁLLÓ
A48: =A16 -> SZERKEZETI MUNKÁK
A56: Ssz. | B56: Tételszám, tétel megnevezése | C56: Menny. | D56: Egys. | E56: Anyag egységár | F56: Díj egységre | G56: Anyag összesen | H56: Díj összesen
B59: =$B$26 -> 35. Ácsmunka
A61: 1 | B61: M35-080-4.1
B62: Szelemen, szarufa, lécezés cseréje; szelemenek, székoszlopok, váltó- és fiókgerendák, feszítőmű lehajlott kötőgerendái, széthasadt székoszlop, csavarodott derékszelemen, javítása, cseréje | C62: 1 | D62: klt | E62: 0 | F62: 0 | G62: =ROUND(C62*E62,) -> 0 | H62: =ROUND(C62*F62,) -> 0
A64: =MAX($A$61:A63)+1 -> 2 | B64: M35-080-4.2
B65: Szelemen, szarufa, lécezés cseréje; szarufák, tető kültéri korhadt szarufáinak javítása, pótlása | C65: 1 | D65: klt | E65: 0 | F65: 0 | G65: =ROUND(C65*E65,) -> 0 | H65: =ROUND(C65*F65,) -> 0
A67: 3 | B67: M35-080
B68: Faanyagvédelmi szakvélemény készítése | C68: 1 | D68: ktg | E68: 0 | F68: 0 | G68: =ROUND(C68*E68,) -> 0 | H68: =ROUND(C68*F68,) -> 0
B71: =Munkanem_35 -> 35. Ácsmunka | G71: =SUM(G61:G70) -> 0 | H71: =SUM(H61:H70) -> 0
F73: Munkanem összesen: | G73: =G71+H71 -> 0

Sheet Építészet
A1: =Főösszesítő!A1 -> Tervező: ÁSZÁRI Iparfejlesztő Kft. | H1: =Főösszesítő!I1 -> Dátum: 2016.03.07
A2: =Főösszesítő!A2 -> Cím: 1061 Budapest, Anker köz 2-4.
A8: MUNKANEMENKÉNTI ÖSSZESÍTŐ
A10: =Főösszesítő!$A$10 -> KINCSEM NEMZETI LÓVERSENY ÉS LOVAS STRATÉGIAI KFT.
A11: =Főösszesítő!$A$11 -> ALAGI TRÉNINGKÖZPONT
A12: =Főösszesítő!$A$12 -> MŰEMLÉKI FELÚJÍTÁSI MUNKÁI
A14: =Főösszesítő!$A$14 -> VI. TELEP 1. ÉPÜLET - PAPIANCE ISTÁLLÓ
A16: ÉPÍTÉSZETI MUNKÁK
B23: Munkanem megnevezése | G23: Anyag | H23: Díj
B26: 15. Zsaluzás és állványozás | G26: =G116 -> 0 | H26: =H116 -> 0
B28: 21. Irtás, föld és sziklamunka | G28: =G171 -> 0 | H28: =H171 -> 0
B30: 22. Szivárgó építés, alagcsövezés | G30: =G181 -> 0 | H30: =H181 -> 0
B32: 23. Síkalapozás | G32: =G197 -> 0 | H32: =H197 -> 0
B34: 31. Helyszíni beton és vasbeton munka | G34: =G234 -> 0 | H34: =H234 -> 0
B36: 32. Előregyártott épületszerkezeti elem elhelyezése és szerelése | G36: =G247 -> 0 | H36: =H247 -> 0
B38: 33. Falazás és egyéb kőművesmunkák | G38: =G269 -> 0 | H38: =H269 -> 0
B40: 35. Ácsmunka | G40: =G330 -> 0 | H40: =H330 -> 0
B42: 36. Vakolás és rabicolás | G42: =G373 -> 0 | H42: =H373 -> 0
B44: 39. Szárazépítés | G44: =G386 -> 0 | H44: =H386 -> 0
B46: 41. Tetőfedés | G46: =G420 -> 0 | H46: =H420 -> 0
B48: 42. Aljzatkészítés, hideg- és melegburkolatok készítése | G48: =G457 -> 0 | H48: =H457 -> 0
B50: 43. Bádogozás | G50: =G512 -> 0 | H50: =H512 -> 0
B52: 44. Asztalosszerkezetek elhelyezése | G52: =G543 -> 0 | H52: =H543 -> 0
B54: 45. Lakatosszerkezetek elhelyezése | G54: =G559 -> 0 | H54: =H559 -> 0
B56: 47. Felületképzés | G56: =G611 -> 0 | H56: =H611 -> 0
B58: 48. Szigetelés | G58: =G648 -> 0 | H58: =H648 -> 0
B60: 50. Beépített berendezési tárgyak | G60: =G664 -> 0 | H60: =H664 -> 0
B62: 53. Közmű csatornaépítés | G62: =G674 -> 0 | H62: =H674 -> 0
B64: 62. Kőburkolat készítése | G64: =G687 -> 0 | H64: =H687 -> 0
B66: 88. Rögzítések, tömítések | G66: =G700 -> 0 | H66: =H700 -> 0
B68: 90. Takarítási munkák | G68: =G710 -> 0 | H68: =H710 -> 0
G71: =SUM(G26:G70) -> 0 | H71: =SUM(H26:H70) -> 0
F73: Összesen: | G73: =G71+H71 -> 0
A75: =A1 -> Tervező: ÁSZÁRI Iparfejlesztő Kft. | H75: =H1 -> Dátum: 2016.03.07
A76: =A2 -> Cím: 1061 Budapest, Anker köz 2-4.
A82: KÖLTSÉGVETÉS
A84: =A10 -> KINCSEM NEMZETI LÓVERSENY ÉS LOVAS STRATÉGIAI KFT.
A85: =A11 -> ALAGI TRÉNINGKÖZPONT
A86: =A12 -> MŰEMLÉKI FELÚJÍTÁSI MUNKÁI
A88: =A14 -> VI. TELEP 1. ÉPÜLET - PAPIANCE ISTÁLLÓ
...
