Workbook
Name Munkanem_15: Építészet!$B$101
Name Munkanem_21: Építészet!$B$120
Name Munkanem_22: Építészet!$B$175
Name Munkanem_23: Építészet!$B$185
Name Munkanem_31: Építészet!$B$201
Name Munkanem_32: Építészet!$B$238
Name Munkanem_33: Építészet!$B$251
Name Munkanem_35: Építészet!$B$273
Name Munkanem_35: Statika!$B$59
Name Munkanem_36: Építészet!$B$334
Name Munkanem_39: Építészet!$B$377
Name Munkanem_41: Építészet!$B$390
Name Munkanem_42: Építészet!$B$424
Name Munkanem_43: Építészet!$B$461
Name Munkanem_44: Építészet!$B$516
Name Munkanem_45: Építészet!$B$547
Name Munkanem_47: Építészet!$B$563
Name Munkanem_48: Építészet!$B$615
Name Munkanem_50: Építészet!$B$652
Name Munkanem_53: Építészet!$B$668
Name Munkanem_62: Építészet!$B$678
Name Munkanem_88: Építészet!$B$691
Name Munkanem_90: Építészet!$B$704

Sheet Főösszesítő
A1: Tervező: ÁSZÁRI Iparfejlesztő Kft. | I1: Dátum: 2016.03.07
A2: Cím: 1061 Budapest, Anker köz 2-4.
A8: FŐÖSSZESÍTŐ
A10: KINCSEM NEMZETI LÓVERSENY ÉS LOVAS STRATÉGIAI KFT.
A11: ALAGI TRÉNINGKÖZPONT
A12: MŰEMLÉKI FELÚJÍTÁSI MUNKÁI
A14: VI. TELEP 1. ÉPÜLET - PAPIANCE ISTÁLLÓ
A16: TERVEZŐI KÖLTSÉGVETÉSI KIÍRÁS
H25: Anyag összesen | I25: Díj összesen
B27: Szerkezeti munkák | H27: =Statika!G29 -> 0 | I27: =Statika!H29 -> 0
B29: Építészeti munkák | H29: =Építészet!G71 -> 0 | I29: =Építészet!H71 -> 0
H32: =SUM(H27:H31) -> 0 | I32: =SUM(I27:I31) -> 0
G34: Nettó összesen: | H34: =H32+I32 -> 0
G36: Áfa 27%: | H36: =ROUND(H34*0.27,) -> 0
G38: Bruttó összesen: | H38: =+H36+H34 -> 0
B46: Megjegyzések:
B47: - Ajánlattevőnek a költségvetési kiírást a műszaki leírással és a tervekkel összevetve, műszakilag és mennyiségileg ellenőriznie kell, eltérés esetén
B48: a műszaki leírásban és a tervekben meghatározottak az irányadók.
B49: - Kivitelezői észrevételek a tervezői kiírástól elkülönítve és külön összesítve szerepeltetendők.
B50: - A tételek árazásakor az egységárnak tartalmaznia kell minden fő- és segédanyagot, azok szállítási és anyagigazgatási költségét; előkészítő és
B51: részmunkát, ill. gyártási és elhelyezési/szerelési költséget, segédeszközt, amely a munkafolyamat teljeskörű elvégzéséhez szükséges.
B52: - A költségvetésben szereplő gyártó és/vagy típus megjelölés csak a műszaki tartalom és követelmény egyértelmű meghatározása érdekében
B53: történt, Ajánlattevő ajánlatában más olyan terméket is szerepeltethet, amely a megnevezettel műszakilag és minőségileg egyenértékű. Ebben az
B54: esetben a költségvetési tétel szövege után - jól látható módon - köteles feltüntetni a megajánlott, egyenértékű termék konkrét megnevezését.

Sheet Statika
A1: =Főösszesítő!A1 -> Tervező: ÁSZÁRI Iparfejlesztő Kft. | H1: =Főösszesítő!I1 -> Dátum: 2016.03.07
A2: =Főösszesítő!A2 -> Cím: 1061 Budapest, Anker köz 2-4.
A8: MUNKANEMENKÉNTI ÖSSZESÍTŐ
A10: =Főösszesítő!$A$10 -> KINCSEM NEMZETI LÓVERSENY ÉS LOVAS STRATÉGIAI KFT.
A11: =Főösszesítő!$A$11 -> ALAGI TRÉNINGKÖZPONT
A12: =Főösszesítő!$A$12 -> MŰEMLÉKI FELÚJÍTÁSI MUNKÁI
A14: =Főösszesítő!$A$14 -> VI. TELEP 1. ÉPÜLET - PAPIANCE ISTÁLLÓ
A16: SZERKEZETI MUNKÁK
B23: Munkanem megnevezése | G23: Anyag | H23: Díj
B26: 35. Ácsmunka | G26: =G71 -> 0 | H26: =H71 -> 0
G29: =SUM(G25:G28) -> 0 | H29: =SUM(H25:H28) -> 0
F31: Összesen: | G31: =G29+H29 -> 0
A33: =A1 -> Tervező: ÁSZÁRI Iparfejlesztő Kft. | H33: =H1 -> Dátum: 2016.03.07
A34: =A2 -> Cím: 1061 Budapest, Anker köz 2-4.
A40: KÖLTSÉGVETÉS
A42: =A10 -> KINCSEM NEMZETI LÓVERSENY ÉS LOVAS STRATÉGIAI KFT.
A43: =A11 -> ALAGI TRÉNINGKÖZPONT
A44: =A12 -> MŰEMLÉKI FELÚJÍTÁSI MUNKÁI
A46: =A14 -> VI. TELEP 1. ÉPÜLET - PAPIANCE ISTÁLLÓ
A48: =A16 -> SZERKEZETI MUNKÁK
A56: Ssz. | B56: Tételszám, tétel megnevezése | C56: Menny. | D56: Egys. | E56: Anyag egységár | F56: Díj egységre | G56: Anyag összesen | H56: Díj összesen
B59: =$B$26 -> 35. Ácsmunka
A61: 1 | B61: M35-080-4.1
B62: Szelemen, szarufa, lécezés cseréje; szelemenek, székoszlopok, váltó- és fiókgerendák, feszítőmű lehajlott kötőgerendái, széthasadt székoszlop, csavarodott derékszelemen, javítása, cseréje | C62: 1 | D62: klt | E62: 0 | F62: 0 | G62: =ROUND(C62*E62,) -> 0 | H62: =ROUND(C62*F62,) -> 0
A64: =MAX($A$61:A63)+1 -> 2 | B64: M35-080-4.2
B65: Szelemen, szarufa, lécezés cseréje; szarufák, tető kültéri korhadt szarufáinak javítása, pótlása | C65: 1 | D65: klt | E65: 0 | F65: 0 | G65: =ROUND(C65*E65,) -> 0 | H65: =ROUND(C65*F65,) -> 0
A67: 3 | B67: M35-080
B68: Faanyagvédelmi szakvélemény készítése | C68: 1 | D68: ktg | E68: 0 | F68: 0 | G68: =ROUND(C68*E68,) -> 0 | H68: =ROUND(C68*F68,) -> 0
B71: =Munkanem_35 -> 35. Ácsmunka | G71: =SUM(G61:G70) -> 0 | H71: =SUM(H61:H70) -> 0
F73: Munkanem összesen: | G73: =G71+H71 -> 0

Sheet Építészet
A1: =Főösszesítő!A1 -> Tervező: ÁSZÁRI Iparfejlesztő Kft. | H1: =Főösszesítő!I1 -> Dátum: 2016.03.07
A2: =Főösszesítő!A2 -> Cím: 1061 Budapest, Anker köz 2-4.
A8: MUNKANEMENKÉNTI ÖSSZESÍTŐ
A10: =Főösszesítő!$A$10 -> KINCSEM NEMZETI LÓVERSENY ÉS LOVAS STRATÉGIAI KFT.
A11: =Főösszesítő!$A$11 -> ALAGI TRÉNINGKÖZPONT
A12: =Főösszesítő!$A$12 -> MŰEMLÉKI FELÚJÍTÁSI MUNKÁI
A14: =Főösszesítő!$A$14 -> VI. TELEP 1. ÉPÜLET - PAPIANCE ISTÁLLÓ
A16: ÉPÍTÉSZETI MUNKÁK
B23: Munkanem megnevezése | G23: Anyag | H23: Díj
B26: 15. Zsaluzás és állványozás | G26: =G116 -> 0 | H26: =H116 -> 0
B28: 21. Irtás, föld és sziklamunka | G28: =G171 -> 0 | H28: =H171 -> 0
B30: 22. Szivárgó építés, alagcsövezés | G30: =G181 -> 0 | H30: =H181 -> 0
B32: 23. Síkalapozás | G32: =G197 -> 0 | H32: =H197 -> 0
B34: 31. Helyszíni beton és vasbeton munka | G34: =G234 -> 0 | H34: =H234 -> 0
B36: 32. Előregyártott épületszerkezeti elem elhelyezése és szerelése | G36: =G247 -> 0 | H36: =H247 -> 0
B38: 33. Falazás és egyéb kőművesmunkák | G38: =G269 -> 0 | H38: =H269 -> 0
B40: 35. Ácsmunka | G40: =G330 -> 0 | H40: =H330 -> 0
B42: 36. Vakolás és rabicolás | G42: =G373 -> 0 | H42: =H373 -> 0
B44: 39. Szárazépítés | G44: =G386 -> 0 | H44: =H386 -> 0
B46: 41. Tetőfedés | G46: =G420 -> 0 | H46: =H420 -> 0
B48: 42. Aljzatkészítés, hideg- és melegburkolatok készítése | G48: =G457 -> 0 | H48: =H457 -> 0
B50: 43. Bádogozás | G50: =G512 -> 0 | H50: =H512 -> 0
B52: 44. Asztalosszerkezetek elhelyezése | G52: =G543 -> 0 | H52: =H543 -> 0
B54: 45. Lakatosszerkezetek elhelyezése | G54: =G559 -> 0 | H54: =H559 -> 0
B56: 47. Felületképzés | G56: =G611 -> 0 | H56: =H611 -> 0
B58: 48. Szigetelés | G58: =G648 -> 0 | H58: =H648 -> 0
B60: 50. Beépített berendezési tárgyak | G60: =G664 -> 0 | H60: =H664 -> 0
B62: 53. Közmű csatornaépítés | G62: =G674 -> 0 | H62: =H674 -> 0
B64: 62. Kőburkolat készítése | G64: =G687 -> 0 | H64: =H687 -> 0
B66: 88. Rögzítések, tömítések | G66: =G700 -> 0 | H66: =H700 -> 0
B68: 90. Takarítási munkák | G68: =G710 -> 0 | H68: =H710 -> 0
G71: =SUM(G26:G70) -> 0 | H71: =SUM(H26:H70) -> 0
F73: Összesen: | G73: =G71+H71 -> 0
A75: =A1 -> Tervező: ÁSZÁRI Iparfejlesztő Kft. | H75: =H1 -> Dátum: 2016.03.07
A76: =A2 -> Cím: 1061 Budapest, Anker köz 2-4.
A82: KÖLTSÉGVETÉS
A84: =A10 -> KINCSEM NEMZETI LÓVERSENY ÉS LOVAS STRATÉGIAI KFT.
A85: =A11 -> ALAGI TRÉNINGKÖZPONT
A86: =A12 -> MŰEMLÉKI FELÚJÍTÁSI MUNKÁI
A88: =A14 -> VI. TELEP 1. ÉPÜLET - PAPIANCE ISTÁLLÓ
A90: =A16 -> ÉPÍTÉSZETI MUNKÁK
A98: Ssz. | B98: Tételszám, tétel megnevezése | C98: Menny. | D98: Egys. | E98: Anyag egységár | F98: Díj egységre | G98: Anyag összesen | H98: Díj összesen
B101: =$B$26 -> 15. Zsaluzás és állványozás
A103: 1 | B103: M15-001-2
B104: Sávalap, talpgerenda kétoldalas zsaluzása fa zsaluzattal, max. 0,8 m magasságig | C104: 7.02 | D104: m2 | E104: 0 | F104: 0 | G104: =ROUND(C104*E104,) -> 0 | H104: =ROUND(C104*F104,) -> 0
A106: =MAX($A$103:A105)+1 -> 2 | B106: M15-001-2
B107: Sávalap, talpgerenda kétoldalas zsaluzása fa zsaluzattal, max. 0,8 m magasságig, téglaburkolat és járda beton szegélygerenda zsaluzata | C107: 37.4 | D107: m2 | E107: 0 | F107: 0 | G107: =ROUND(C107*E107,) -> 0 | H107: =ROUND(C107*F107,) -> 0
A109: =MAX($A$103:A108)+1 -> 3 | B109: 15-004-31.1
B110: Koszorúzsaluzás, zsaluzattól függetlenül, párkány nélkül | C110: 7.6 | D110: m2 | E110: 0 | F110: 0 | G110: =ROUND(C110*E110,) -> 0 | H110: =ROUND(C110*F110,) -> 0
A112: =MAX($A$103:A111)+1 -> 4 | B112: 15-012-21.1-0023003
B113: Homlokzati keretállványok, fém keretvázból, szintenkénti pallóterítéssel, korláttal, lábdeszkával, 0,75-1,20 m padlószélességgel, munkapadló távolság 2,50 m, 2,00 kN/m² terhelhetőséggel, állványépítés MSZ és alkalmazástechnikai kézikönyv szerint, 6,00 m munkapadló magasságig KRAUSE Stabilo homlokzati keretállvány 0,75 m padlószélességgel, 6,00 m munkapadló magasságig, véghomlokzatok | C113: 124.29 | D113: m2 | E113: 0 | F113: 0 | G113: =ROUND(C113*E113,) -> 0 | H113: =ROUND(C113*F113,) -> 0
B116: =Munkanem_15 -> 15. Zsaluzás és állványozás | G116: =SUM(G103:G115) -> 0 | H116: =SUM(H103:H115) -> 0
F118: Munkanem összesen: | G118: =G116+H116 -> 0
B120: =$B$28 -> 21. Irtás, föld és sziklamunka
A122: 1 | B122: 21-001-3.2.1
B123: Tuskókiásás egyes döntött fák esetén, kézi erővel, III. oszt. talajban, gyökfő átmérő: 10-30 cm között, előirányzat | C123: 10 | D123: db | E123: 0 | F123: 0 | G123: =ROUND(C123*E123,) -> 0 | H123: =ROUND(C123*F123,) -> 0
A125: =MAX($A$122:A124)+1 -> 2 | B125: 21-001-6.1
B126: Bozót- és cserjeirtás, tövek átmérője 4 cm-ig | C126: 126.3 | D126: 10 m2 | E126: 0 | F126: 0 | G126: =ROUND(C126*E126,) -> 0 | H126: =ROUND(C126*F126,) -> 0
A128: =MAX($A$122:A127)+1 -> 3 | B128: 21-001-7.1
B129: Gyomirtás, 5 kg/m³ hígítású vegyszerrel | C129: 29.78 | D129: 10 m2 | E129: 0 | F129: 0 | G129: =ROUND(C129*E129,) -> 0 | H129: =ROUND(C129*F129,) -> 0
A131: =MAX($A$122:A130)+1 -> 4 | B131: 21-001-13.1.1-0631101
B132: Füvesítés sík felületen talaj-előkészítéssel, gépi erővel, KITE PÁZSIT fűmagkeverék, 40-50 dkg/10 m2 (kétoldalt és hátul, 5 m-es sávban) | C132: 29.78 | D132: 10 m2 | E132: 0 | F132: 0 | G132: =ROUND(C132*E132,) -> 0 | H132: =ROUND(C132*F132,) -> 0
A134: =MAX($A$122:A133)+1 -> 5 | B134: 21-003-5.1.1.2
B135: Munkaárok földkiemelése közművesített területen, kézi erővel, bármely konzisztenciájú talajban, dúcolás nélkül, 2,0 m² szelvényig, III. talajosztály | C135: 4.91 | D135: m3 | E135: 0 | F135: 0 | G135: =ROUND(C135*E135,) -> 0 | H135: =ROUND(C135*F135,) -> 0
A137: =MAX($A$122:A136)+1 -> 6 | B137: 21-003-8.1.2.1.2
B138: Pillérek, gépalapok, oszlopok, aknák, munkagödrök, pincetömbök kiemelése, 1 m padka hagyással, kétoldalra kiemelve, depóniába vagy szállítóeszközre rakva, száraz, földnedves talajban, 10,01-50,00 m2 alapterület között, 1,50 m mélységig, III. fejtési talajosztályban, tükörkiemelés téglaburkolatnál és járdánál | C138: 9.64 | D138: m3 | E138: 0 | F138: 0 | G138: =ROUND(C138*E138,) -> 0 | H138: =ROUND(C138*F138,) -> 0
A140: =MAX($A$122:A139)+1 -> 7 | B140: 21-003-8.1.2.1.2
B141: Pillérek, gépalapok, oszlopok, aknák, munkagödrök, pincetömbök kiemelése, 1 m padka hagyással, kétoldalra kiemelve, depóniába vagy szállítóeszközre rakva, száraz, földnedves talajban, 10,01-50,00 m2 alapterület között, 1,50 m mélységig, III. fejtési talajosztályban, tükörkiemelés toldaléképületnél | C141: 2.55 | D141: m3 | E141: 0 | F141: 0 | G141: =ROUND(C141*E141,) -> 0 | H141: =ROUND(C141*F141,) -> 0
A143: =MAX($A$122:A142)+1 -> 8 | B143: 21-003-11.1.1
B144: Földvisszatöltés munkagödörbe vagy munkaárokba, tömörítés nélkül, réteges elterítéssel, I-IV. osztályú talajban, kézi erővel, az anyag súlypontja karoláson belül, a vezeték (műtárgy) felett és mellett 50 cm vastagságig | C144: 1.05 | D144: m3 | E144: 0 | F144: 0 | G144: =ROUND(C144*E144,) -> 0 | H144: =ROUND(C144*F144,) -> 0
A146: =MAX($A$122:A145)+1 -> 9 | B146: 21-004-2.1.1
B147: Földmű vízszintes felületének rendezése a felesleges föld elterítésével, tömörítés nélkül, gépi erővel, kiegészítő kézi munkával, 16%-os terephajlásig, 20 cm vastagságban, talajosztály: I-IV., tereprendezés az épület körüli 5 m-es sávban (kétoldalt és hátul), és konténer helyén | C147: 297.8 | D147: m2 | E147: 0 | F147: 0 | G147: =ROUND(C147*E147,) -> 0 | H147: =ROUND(C147*F147,) -> 0
A149: =MAX($A$122:A148)+1 -> 10 | B149: 21-004-4.1.2-0120701
B150: Talajjavító réteg készítése vonalas létesítményeknél, 3,00 m szélességig vagy építményen belül, osztályozatlan kavicsból Természetes szemmegoszlású kavics, THK 0/32 O-TT, Nyékládháza | C150: 9.14 | D150: m3 | E150: 0 | F150: 0 | G150: =ROUND(C150*E150,) -> 0 | H150: =ROUND(C150*F150,) -> 0
A152: =MAX($A$122:A151)+1 -> 11 | B152: 21-008-2.2.1
B153: Tömörítés bármely tömörítési osztályban gépi erővel, kis felületen, tömörségi fok: 85% | C153: 1.05 | D153: m3 | E153: 0 | F153: 0 | G153: =ROUND(C153*E153,) -> 0 | H153: =ROUND(C153*F153,) -> 0
A155: =MAX($A$122:A154)+1 -> 12 | B155: 21-008-2.2.3
B156: Tömörítés bármely tömörítési osztályban gépi erővel, kis felületen, tömörségi fok: 95% | C156: 9.14 | D156: m3 | E156: 0 | F156: 0 | G156: =ROUND(C156*E156,) -> 0 | H156: =ROUND(C156*F156,) -> 0
A158: =MAX($A$122:A157)+1 -> 13 | B158: M21-011-3.1.1
B159: Fejtett föld mozgatása I-IV. osztályú talajban, géppel, 50 m távolságig, kiemelet föld anyagmozgatása épület körüli tereprendezéshez | C159: 16.04 | D159: m3 | E159: 0 | F159: 0 | G159: =ROUND(C159*E159,) -> 0 | H159: =ROUND(C159*F159,) -> 0
A161: =MAX($A$122:A160)+1 -> 14 | B161: M21-011-11.4
B162: Építési törmelék konténeres elszállítása, lerakása, lerakóhelyi díjjal, 6,0 m³-es konténerbe (laza m3-ben megadva) | C162: 37.62 | D162: m3 | E162: 0 | F162: 0 | G162: =ROUND(C162*E162,) -> 0 | H162: =ROUND(C162*F162,) -> 0
A164: =MAX($A$122:A163)+1 -> 15 | B164: M21-011-11.6
B165: Építési törmelék konténeres elszállítása, lerakása, lerakóhelyi díjjal, veszélyes hulladékként (laza m3-ben megadva) | C165: 0.4 | D165: m3 | E165: 0 | F165: 0 | G165: =ROUND(C165*E165,) -> 0 | H165: =ROUND(C165*F165,) -> 0
A167: =MAX($A$122:A166)+1 -> 16 | B167: 21-011-12
B168: Munkahelyi depóniából építési törmelék konténerbe rakása, kézi erővel, önálló munka esetén elszámolva, konténer szállítás nélkül | C168: 38.01 | D168: m3 | E168: 0 | F168: 0 | G168: =ROUND(C168*E168,) -> 0 | H168: =ROUND(C168*F168,) -> 0
B171: =Munkanem_21 -> 21. Irtás, föld és sziklamunka | G171: =SUM(G122:G170) -> 0 | H171: =SUM(H122:H170) -> 0
F173: Munkanem összesen: | G173: =G171+H171 -> 0
B175: =$B$30 -> 22. Szivárgó építés, alagcsövezés
A177: 1 | B177: 22-005-20
B178: Földalatti szikkasztó készítése, földmunkával, kulé kavics feltöltéssel, 250g/m2-es geotextília elválasztó réteggel, földvisszatöltéssel lefedve, 1,0 m3/db | C178: 5 | D178: db | E178: 0 | F178: 0 | G178: =ROUND(C178*E178,) -> 0 | H178: =ROUND(C178*F178,) -> 0
B181: =Munkanem_22 -> 22. Szivárgó építés, alagcsövezés | G181: =SUM(G177:G180) -> 0 | H181: =SUM(H177:H180) -> 0
F183: Munkanem összesen: | G183: =G181+H181 -> 0
B185: =$B$32 -> 23. Síkalapozás
A187: 1 | B187: M23-003-3-0112210
B188: Beton sáv-, talp- lemezalap készítése helyszínen kevert betonból, C12/15 minőségű betonból, C12/15-X0b(H)-24-F2 kavicsbeton keverék | C188: 3.86 | D188: m3 | E188: 0 | F188: 0 | G188: =ROUND(C188*E188,) -> 0 | H188: =ROUND(C188*F188,) -> 0
A190: =MAX($A$187:A189)+1 -> 2 | B190: M23-003-3-0230410
B191: Vasbeton sáv-, talp- lemez- vagy gerendaalap készítése helyszínen kevert betonból, C16/20 minőségű betonból, C20/25-X0v(H)-24-F2 kavicsbeton keverék | C191: 1.05 | D191: m3 | E191: 0 | F191: 0 | G191: =ROUND(C191*E191,) -> 0 | H191: =ROUND(C191*F191,) -> 0
A193: =MAX($A$187:A192)+1 -> 3 | B193: M23-003-3-0222210
B194: Vasalt aljzat készítése helyszínen kevert, C16/20 minőségű betonból, C16/20-X0v(H)-24-F2 kavicsbeton keverék, szigetelést tartó aljzat | C194: 2.83 | D194: m3 | E194: 0 | F194: 0 | G194: =ROUND(C194*E194,) -> 0 | H194: =ROUND(C194*F194,) -> 0
...
